Workbook

Sheet Expense Log
A1: Cleaning Business Expense Log
A2: Enter expenses in blue-font input cells. Summary tabs update automatically.
A4: Date | B4: Vendor | C4: Description | D4: Category | E4: Expense Type | F4: Cost Behavior | G4: Customer / Job | H4: Payment Method | I4: Amount | J4: Tax | K4: Total | L4: Receipt Status | M4: Receipt / File Ref | N4: Notes | O4: Alert
A5: 46027 | B5: CleanSupply Co | C5: Monthly chemicals | D5: Cleaning Chemicals | E5: Overhead | F5: Variable | H5: Business Credit Card | I5: 325 | J5: 0 | K5: =IF(COUNTA(A5:J5)=0,"",N(I5)+N(J5)) | L5: Stored | M5: R-1001 | N5: Sample expense | O5: =IF(A5="","",IF(OR(D5="",E5=""),"REVIEW",IF(L5="Missing","MISSING RECEIPT",IF(K5>'Setup & Categories'!$B$6,"HIGH EXPENSE",""))))
A6: 46030 | B6: Google Ads | C6: Search campaign | D6: Paid Search | E6: Overhead | F6: Variable | H6: Business Credit Card | I6: 600 | J6: 0 | K6: =IF(COUNTA(A6:J6)=0,"",N(I6)+N(J6)) | L6: Stored | M6: R-1002 | N6: Sample expense | O6: =IF(A6="","",IF(OR(D6="",E6=""),"REVIEW",IF(L6="Missing","MISSING RECEIPT",IF(K6>'Setup & Categories'!$B$6,"HIGH EXPENSE",""))))
A7: 46034 | B7: Parking Garage | C7: Downtown office job | D7: Parking | E7: Direct Job Cost | F7: Variable | G7: Acme Offices / JOB-101 | H7: Business Debit Card | I7: 28 | J7: 0 | K7: =IF(COUNTA(A7:J7)=0,"",N(I7)+N(J7)) | L7: Missing | N7: Sample job expense | O7: =IF(A7="","",IF(OR(D7="",E7=""),"REVIEW",IF(L7="Missing","MISSING RECEIPT",IF(K7>'Setup & Categories'!$B$6,"HIGH EXPENSE",""))))
A8: 46054 | B8: TidyOps | C8: Operations software | D8: TidyOps / Operations Software | E8: Overhead | F8: Fixed | H8: Business Credit Card | I8: 149 | J8: 0 | K8: =IF(COUNTA(A8:J8)=0,"",N(I8)+N(J8)) | L8: Stored | M8: R-1003 | N8: Sample recurring expense | O8: =IF(A8="","",IF(OR(D8="",E8=""),"REVIEW",IF(L8="Missing","MISSING RECEIPT",IF(K8>'Setup & Categories'!$B$6,"HIGH EXPENSE",""))))
K9: =IF(COUNTA(A9:J9)=0,"",N(I9)+N(J9)) | O9: =IF(A9="","",IF(OR(D9="",E9=""),"REVIEW",IF(L9="Missing","MISSING RECEIPT",IF(K9>'Setup & Categories'!$B$6,"HIGH EXPENSE",""))))
K10: =IF(COUNTA(A10:J10)=0,"",N(I10)+N(J10)) | O10: =IF(A10="","",IF(OR(D10="",E10=""),"REVIEW",IF(L10="Missing","MISSING RECEIPT",IF(K10>'Setup & Categories'!$B$6,"HIGH EXPENSE",""))))
K11: =IF(COUNTA(A11:J11)=0,"",N(I11)+N(J11)) | O11: =IF(A11="","",IF(OR(D11="",E11=""),"REVIEW",IF(L11="Missing","MISSING RECEIPT",IF(K11>'Setup & Categories'!$B$6,"HIGH EXPENSE",""))))
K12: =IF(COUNTA(A12:J12)=0,"",N(I12)+N(J12)) | O12: =IF(A12="","",IF(OR(D12="",E12=""),"REVIEW",IF(L12="Missing","MISSING RECEIPT",IF(K12>'Setup & Categories'!$B$6,"HIGH EXPENSE",""))))
K13: =IF(COUNTA(A13:J13)=0,"",N(I13)+N(J13)) | O13: =IF(A13="","",IF(OR(D13="",E13=""),"REVIEW",IF(L13="Missing","MISSING RECEIPT",IF(K13>'Setup & Categories'!$B$6,"HIGH EXPENSE",""))))
K14: =IF(COUNTA(A14:J14)=0,"",N(I14)+N(J14)) | O14: =IF(A14="","",IF(OR(D14="",E14=""),"REVIEW",IF(L14="Missing","MISSING RECEIPT",IF(K14>'Setup & Categories'!$B$6,"HIGH EXPENSE",""))))
K15: =IF(COUNTA(A15:J15)=0,"",N(I15)+N(J15)) | O15: =IF(A15="","",IF(OR(D15="",E15=""),"REVIEW",IF(L15="Missing","MISSING RECEIPT",IF(K15>'Setup & Categories'!$B$6,"HIGH EXPENSE",""))))
K16: =IF(COUNTA(A16:J16)=0,"",N(I16)+N(J16)) | O16: =IF(A16="","",IF(OR(D16="",E16=""),"REVIEW",IF(L16="Missing","MISSING RECEIPT",IF(K16>'Setup & Categories'!$B$6,"HIGH EXPENSE",""))))
K17: =IF(COUNTA(A17:J17)=0,"",N(I17)+N(J17)) | O17: =IF(A17="","",IF(OR(D17="",E17=""),"REVIEW",IF(L17="Missing","MISSING RECEIPT",IF(K17>'Setup & Categories'!$B$6,"HIGH EXPENSE",""))))
K18: =IF(COUNTA(A18:J18)=0,"",N(I18)+N(J18)) | O18: =IF(A18="","",IF(OR(D18="",E18=""),"REVIEW",IF(L18="Missing","MISSING RECEIPT",IF(K18>'Setup & Categories'!$B$6,"HIGH EXPENSE",""))))
K19: =IF(COUNTA(A19:J19)=0,"",N(I19)+N(J19)) | O19: =IF(A19="","",IF(OR(D19="",E19=""),"REVIEW",IF(L19="Missing","MISSING RECEIPT",IF(K19>'Setup & Categories'!$B$6,"HIGH EXPENSE",""))))
K20: =IF(COUNTA(A20:J20)=0,"",N(I20)+N(J20)) | O20: =IF(A20="","",IF(OR(D20="",E20=""),"REVIEW",IF(L20="Missing","MISSING RECEIPT",IF(K20>'Setup & Categories'!$B$6,"HIGH EXPENSE",""))))
... K504: =IF(COUNTA(A504:J504)=0,"",N(I504)+N(J504)) | O504: =IF(A504="","",IF(OR(D504="",E504=""),"REVIEW",IF(L504="Missing","MISSING RECEIPT",IF(K504>'Setup & Categories'!$B$6,"HIGH EXPENSE",""))))

Sheet Monthly Dashboard
A1: Monthly Expense Dashboard
A3: Reporting Year | B3: ='Setup & Categories'!B5
A5: Category | B5: Jan | C5: Feb | D5: Mar | E5: Apr | F5: May | G5: Jun | H5: Jul | I5: Aug | J5: Sep | K5: Oct | L5: Nov | M5: Dec | N5: Annual
A6: Payroll / Labor | B6: =SUMIFS('Expense Log'!$K$5:$K$504,'Expense Log'!$D$5:$D$504,"Cleaner Wages",'Expense Log'!$A$5:$A$504,">="&DATE($B$3,1,1),'Expense Log'!$A$5:$A$504,"<"&EDATE(DATE($B$3,1,1),1))+SUMIFS('Expense Log'!$K$5:$K$504,'Expense Log'!$D$5:$D$504,"Payroll Taxes",'Expense Log'!$A$5:$A$504,">="&DATE($B$3,1,1),'Expense Log'!$A$5:$A$504,"<"&EDATE(DATE($B$3,1,1),1))+SUMIFS('Expense Log'!$K$5:$K$504,'Expense Log'!$D$5:$D$504,"Workers Comp",'Expense Log'!$A$5:$A$504,">="&DATE($B$3,1,1),'Expense Log'!$A$5:$A$504,"<"&EDATE(DATE($B$3,1,1),1))+SUMIFS('Expense Log'!$K$5:$K$504,'Expense Log'!$D$5:$D$504,"Benefits",'Expense Log'!$A$5:$A$504,">="&DATE($B$3,1,1),'Expense Log'!$A$5:$A$504,"<"&EDATE(DATE($B$3,1,1),1))+SUMIFS('Expense Log'!$K$5:$K$504,'Expense Log'!$D$5:$D$504,"Bonuses",'Expense Log'!$A$5:$A$504,">="&DATE($B$3,1,1),'Expense Log'!$A$5:$A$504,"<"&EDATE(DATE($B$3,1,1),1))+SUMIFS('Expense Log'!$K$5:$K$504,'Expense Log'!$D$5:$D$504,"Training",'Expense Log'!$A$5:$A$504,">="&DATE($B$3,1,1),'Expense Log'!$A$5:$A$504,"<"&EDATE(DATE($B$3,1,1),1))+SUMIFS('Expense Log'!$K$5:$K$504,'Expense Log'!$D$5:$D$504,"Recruiting",'Expense Log'!$A$5:$A$504,">="&DATE($B$3,1,1),'Expense Log'!$A$5:$A$504,"<"&EDATE(DATE($B$3,1,1),1))+SUMIFS('Expense Log'!$K$5:$K$504,'Expense Log'!$D$5:$D$504,"Uniforms",'Expense Log'!$A$5:$A$504,">="&DATE($B$3,1,1),'Expense Log'!$A$5:$A$504,"<"&EDATE(DATE($B$3,1,1),1))+SUMIFS('Expense Log'!$K$5:$K$504,'Expense Log'!$D$5:$D$504,"Administrative Labor",'Expense Log'!$A$5:$A$504,">="&DATE($B$3,1,1),'Expense Log'!$A$5:$A$504,"<"&EDATE(DATE($B$3,1,1),1)) | C6: =SUMIFS('Expense Log'!$K$5:$K$504,'Expense Log'!$D$5:$D$504,"Cleaner Wages",'Expense Log'!$A$5:$A$504,">="&DATE($B$3,2,1),'Expense Log'!$A$5:$A$504,"<"&EDATE(DATE($B$3,2,1),1))+SUMIFS('Expense Log'!$K$5:$K$504,'Expense Log'!$D$5:$D$504,"Payroll Taxes",'Expense Log'!$A$5:$A$504,">="&DATE($B$3,2,1),'Expense Log'!$A$5:$A$504,"<"&EDATE(DATE($B$3,2,1),1))+SUMIFS('Expense Log'!$K$5:$K$504,'Expense Log'!$D$5:$D$504,"Workers Comp",'Expense Log'!$A$5:$A$504,">="&DATE($B$3,2,1),'Expense Log'!$A$5:$A$504,"<"&EDATE(DATE($B$3,2,1),1))+SUMIFS('Expense Log'!$K$5:$K$504,'Expense Log'!$D$5:$D$504,"Benefits",'Expense Log'!$A$5:$A$504,">="&DATE($B$3,2,1),'Expense Log'!$A$5:$A$504,"<"&EDATE(DATE($B$3,2,1),1))+SUMIFS('Expense Log'!$K$5:$K$504,'Expense Log'!$D$5:$D$504,"Bonuses",'Expense Log'!$A$5:$A$504,">="&DATE($B$3,2,1),'Expense Log'!$A$5:$A$504,"<"&EDATE(DATE($B$3,2,1),1))+SUMIFS('Expense Log'!$K$5:$K$504,'Expense Log'!$D$5:$D$504,"Training",'Expense Log'!$A$5:$A$504,">="&DATE($B$3,2,1),'Expense Log'!$A$5:$A$504,"<"&EDATE(DATE($B$3,2,1),1))+SUMIFS('Expense Log'!$K$5:$K$504,'Expense Log'!$D$5:$D$504,"Recruiting",'Expense Log'!$A$5:$A$504,">="&DATE($B$3,2,1),'Expense Log'!$A$5:$A$504,"<"&EDATE(DATE($B$3,2,1),1))+SUMIFS('Expense Log'!$K$5:$K$504,'Expense Log'!$D$5:$D$504,"Uniforms",'Expense Log'!$A$5:$A$504,">="&DATE($B$3,2,1),'Expense Log'!$A$5:$A$504,"<"&EDATE(DATE($B$3,2,1),1))+SUMIFS('Expense Log'!$K$5:$K$504,'Expense Log'!$D$5:$D$504,"Administrative Labor",'Expense Log'!$A$5:$A$504,">="&DATE($B$3,2,1),'Expense Log'!$A$5:$A$504,"<"&EDATE(DATE($B$3,2,1),1)) | D6: =SUMIFS('Expense Log'!$K$5:$K$504,'Expense Log'!$D$5:$D$504,"Cleaner Wages",'Expense Log'!$A$5:$A$504,">="&DATE($B$3,3,1),'Expense Log'!$A$5:$A$504,"<"&EDATE(DATE($B$3,3,1),1))+SUMIFS('Expense Log'!$K$5:$K$504,'Expense Log'!$D$5:$D$504,"Payroll Taxes",'Expense Log'!$A$5:$A$504,">="&DATE($B$3,3,1),'Expense Log'!$A$5:$A$504,"<"&EDATE(DATE($B$3,3,1),1))+SUMIFS('Expense Log'!$K$5:$K$504,'Expense Log'!$D$5:$D$504,"Workers Comp",'Expense Log'!$A$5:$A$504,">="&DATE($B$3,3,1),'Expense Log'!$A$5:$A$504,"<"&EDATE(DATE($B$3,3,1),1))+SUMIFS('Expense Log'!$K$5:$K$504,'Expense Log'!$D$5:$D$504,"Benefits",'Expense Log'!$A$5:$A$504,">="&DATE($B$3,3,1),'Expense Log'!$A$5:$A$504,"<"&EDATE(DATE($B$3,3,1),1))+SUMIFS('Expense Log'!$K$5:$K$504,'Expense Log'!$D$5:$D$504,"Bonuses",'Expense Log'!$A$5:$A$504,">="&DATE($B$3,3,1),'Expense Log'!$A$5:$A$504,"<"&EDATE(DATE($B$3,3,1),1))+SUMIFS('Expense Log'!$K$5:$K$504,'Expense Log'!$D$5:$D$504,"Training",'Expense Log'!$A$5:$A$504,">="&DATE($B$3,3,1),'Expense Log'!$A$5:$A$504,"<"&EDATE(DATE($B$3,3,1),1))+SUMIFS('Expense Log'!$K$5:$K$504,'Expense Log'!$D$5:$D$504,"Recruiting",'Expense Log'!$A$5:$A$504,">="&DATE($B$3,3,1),'Expense Log'!$A$5:$A$504,"<"&EDATE(DATE($B$3,3,1),1))+SUMIFS('Expense Log'!$K$5:$K$504,'Expense Log'!$D$5:$D$504,"Uniforms",'Expense Log'!$A$5:$A$504,">="&DATE($B$3,3,1),'Expense Log'!$A$5:$A$504,"<"&EDATE(DATE($B$3,3,1),1))+SUMIFS('Expense Log'!$K$5:$K$504,'Expense Log'!$D$5:$D$504,"Administrative Labor",'Expense Log'!$A$5:$A$504,">="&DATE($B$3,3,1),'Expense Log'!$A$5:$A$504,"<"&EDATE(DATE($B$3,3,1),1)) | E6: =SUMIFS('Expense Log'!$K$5:$K$504,'Expense Log'!$D$5:$D$504,"Cleaner Wages",'Expense Log'!$A$5:$A$504,">="&DATE($B$3,4,1),'Expense Log'!$A$5:$A$504,"<"&EDATE(DATE($B$3,4,1),1))+SUMIFS('Expense Log'!$K$5:$K$504,'Expense Log'!$D$5:$D$504,"Payroll Taxes",'Expense Log'!$A$5:$A$504,">="&DATE($B$3,4,1),'Expense Log'!$A$5:$A$504,"<"&EDATE(DATE($B$3,4,1),1))+SUMIFS('Expense Log'!$K$5:$K$504,'Expense Log'!$D$5:$D$504,"Workers Comp",'Expense Log'!$A$5:$A$504,">="&DATE($B$3,4,1),'Expense Log'!$A$5:$A$504,"<"&EDATE(DATE($B$3,4,1),1))+SUMIFS('Expense Log'!$K$5:$K$504,'Expense Log'!$D$5:$D$504,"Benefits",'Expense Log'!$A$5:$A$504,">="&DATE($B$3,4,1),'Expense Log'!$A$5:$A$504,"<"&EDATE(DATE($B$3,4,1),1))+SUMIFS('Expense Log'!$K$5:$K$504,'Expense Log'!$D$5:$D$504,"Bonuses",'Expense Log'!$A$5:$A$504,">="&DATE($B$3,4,1),'Expense Log'!$A$5:$A$504,"<"&EDATE(DATE($B$3,4,1),1))+SUMIFS('Expense Log'!$K$5:$K$504,'Expense Log'!$D$5:$D$504,"Training",'Expense Log'!$A$5:$A$504,">="&DATE($B$3,4,1),'Expense Log'!$A$5:$A$504,"<"&EDATE(DATE($B$3,4,1),1))+SUMIFS('Expense Log'!$K$5:$K$504,'Expense Log'!$D$5:$D$504,"Recruiting",'Expense Log'!$A$5:$A$504,">="&DATE($B$3,4,1),'Expense Log'!$A$5:$A$504,"<"&EDATE(DATE($B$3,4,1),1))+SUMIFS('Expense Log'!$K$5:$K$504,'Expense Log'!$D$5:$D$504,"Uniforms",'Expense Log'!$A$5:$A$504,">="&DATE($B$3,4,1),'Expense Log'!$A$5:$A$504,"<"&EDATE(DATE($B$3,4,1),1))+SUMIFS('Expense Log'!$K$5:$K$504,'Expense Log'!$D$5:$D$504,"Administrative Labor",'Expense Log'!$A$5:$A$504,">="&DATE($B$3,4,1),'Expense Log'!$A$5:$A$504,"<"&EDATE(DATE($B$3,4,1),1)) | F6: =SUMIFS('Expense Log'!$K$5:$K$504,'Expense Log'!$D$5:$D$504,"Cleaner Wages",'Expense Log'!$A$5:$A$504,">="&DATE($B$3,5,1),'Expense Log'!$A$5:$A$504,"<"&EDATE(DATE($B$3,5,1),1))+SUMIFS('Expense Log'!$K$5:$K$504,'Expense Log'!$D$5:$D$504,"Payroll Taxes",'Expense Log'!$A$5:$A$504,">="&DATE($B$3,5,1),'Expense Log'!$A$5:$A$504,"<"&EDATE(DATE($B$3,5,1),1))+SUMIFS('Expense Log'!$K$5:$K$504,'Expense Log'!$D$5:$D$504,"Workers Comp",'Expense Log'!$A$5:$A$504,">="&DATE($B$3,5,1),'Expense Log'!$A$5:$A$504,"<"&EDATE(DATE($B$3,5,1),1))+SUMIFS('Expense Log'!$K$5:$K$504,'Expense Log'!$D$5:$D$504,"Benefits",'Expense Log'!$A$5:$A$504,">="&DATE($B$3,5,1),'Expense Log'!$A$5:$A$504,"<"&EDATE(DATE($B$3,5,1),1))+SUMIFS('Expense Log'!$K$5:$K$504,'Expense Log'!$D$5:$D$504,"Bonuses",'Expense Log'!$A$5:$A$504,">="&DATE($B$3,5,1),'Expense Log'!$A$5:$A$504,"<"&EDATE(DATE($B$3,5,1),1))+SUMIFS('Expense Log'!$K$5:$K$504,'Expense Log'!$D$5:$D$504,"Training",'Expense Log'!$A$5:$A$504,">="&DATE($B$3,5,1),'Expense Log'!$A$5:$A$504,"<"&EDATE(DATE($B$3,5,1),1))+SUMIFS('Expense Log'!$K$5:$K$504,'Expense Log'!$D$5:$D$504,"Recruiting",'Expense Log'!$A$5:$A$504,">="&DATE($B$3,5,1),'Expense Log'!$A$5:$A$504,"<"&EDATE(DATE($B$3,5,1),1))+SUMIFS('Expense Log'!$K$5:$K$504,'Expense Log'!$D$5:$D$504,"Uniforms",'Expense Log'!$A$5:$A$504,">="&DATE($B$3,5,1),'Expense Log'!$A$5:$A$504,"<"&EDATE(DATE($B$3,5,1),1))+SUMIFS('Expense Log'!$K$5:$K$504,'Expense Log'!$D$5:$D$504,"Administrative Labor",'Expense Log'!$A$5:$A$504,">="&DATE($B$3,5,1),'Expense Log'!$A$5:$A$504,"<"&EDATE(DATE($B$3,5,1),1)) | G6: =SUMIFS('Expense Log'!$K$5:$K$504,'Expense Log'!$D$5:$D$504,"Cleaner Wages",'Expense Log'!$A$5:$A$504,">="&DATE($B$3,6,1),'Expense Log'!$A$5:$A$504,"<"&EDATE(DATE($B$3,6,1),1))+SUMIFS('Expense Log'!$K$5:$K$504,'Expense Log'!$D$5:$D$504,"Payroll Taxes",'Expense Log'!$A$5:$A$504,">="&DATE($B$3,6,1),'Expense Log'!$A$5:$A$504,"<"&EDATE(DATE($B$3,6,1),1))+SUMIFS('Expense Log'!$K$5:$K$504,'Expense Log'!$D$5:$D$504,"Workers Comp",'Expense Log'!$A$5:$A$504,">="&DATE($B$3,6,1),'Expense Log'!$A$5:$A$504,"<"&EDATE(DATE($B$3,6,1),1))+SUMIFS('Expense Log'!$K$5:$K$504,'Expense Log'!$D$5:$D$504,"Benefits",'Expense Log'!$A$5:$A$504,">="&DATE($B$3,6,1),'Expense Log'!$A$5:$A$504,"<"&EDATE(DATE($B$3,6,1),1))+SUMIFS('Expense Log'!$K$5:$K$504,'Expense Log'!$D$5:$D$504,"Bonuses",'Expense Log'!$A$5:$A$504,">="&DATE($B$3,6,1),'Expense Log'!$A$5:$A$504,"<"&EDATE(DATE($B$3,6,1),1))+SUMIFS('Expense Log'!$K$5:$K$504,'Expense Log'!$D$5:$D$504,"Training",'Expense Log'!$A$5:$A$504,">="&DATE($B$3,6,1),'Expense Log'!$A$5:$A$504,"<"&EDATE(DATE($B$3,6,1),1))+SUMIFS('Expense Log'!$K$5:$K$504,'Expense Log'!$D$5:$D$504,"Recruiting",'Expense Log'!$A$5:$A$504,">="&DATE($B$3,6,1),'Expense Log'!$A$5:$A$504,"<"&EDATE(DATE($B$3,6,1),1))+SUMIFS('Expense Log'!$K$5:$K$504,'Expense Log'!$D$5:$D$504,"Uniforms",'Expense Log'!$A$5:$A$504,">="&DATE($B$3,6,1),'Expense Log'!$A$5:$A$504,"<"&EDATE(DATE($B$3,6,1),1))+SUMIFS('Expense Log'!$K$5:$K$504,'Expense Log'!$D$5:$D$504,"Administrative Labor",'Expense Log'!$A$5:$A$504,">="&DATE($B$3,6,1),'Expense Log'!$A$5:$A$504,"<"&EDATE(DATE($B$3,6,1),1)) | H6: =SUMIFS('Expense Log'!$K$5:$K$504,'Expense Log'!$D$5:$D$504,"Cleaner Wages",'Expense Log'!$A$5:$A$504,">="&DATE($B$3,7,1),'Expense Log'!$A$5:$A$504,"<"&EDATE(DATE($B$3,7,1),1))+SUMIFS('Expense Log'!$K$5:$K$504,'Expense Log'!$D$5:$D$504,"Payroll Taxes",'Expense Log'!$A$5:$A$504,">="&DATE($B$3,7,1),'Expense Log'!$A$5:$A$504,"<"&EDATE(DATE($B$3,7,1),1))+SUMIFS('Expense Log'!$K$5:$K$504,'Expense Log'!$D$5:$D$504,"Workers Comp",'Expense Log'!$A$5:$A$504,">="&DATE($B$3,7,1),'Expense Log'!$A$5:$A$504,"<"&EDATE(DATE($B$3,7,1),1))+SUMIFS('Expense Log'!$K$5:$K$504,'Expense Log'!$D$5:$D$504,"Benefits",'Expense Log'!$A$5:$A$504,">="&DATE($B$3,7,1),'Expense Log'!$A$5:$A$504,"<"&EDATE(DATE($B$3,7,1),1))+SUMIFS('Expense Log'!$K$5:$K$504,'Expense Log'!$D$5:$D$504,"Bonuses",'Expense Log'!$A$5:$A$504,">="&DATE($B$3,7,1),'Expense Log'!$A$5:$A$504,"<"&EDATE(DATE($B$3,7,1),1))+SUMIFS('Expense Log'!$K$5:$K$504,'Expense Log'!$D$5:$D$504,"Training",'Expense Log'!$A$5:$A$504,">="&DATE($B$3,7,1),'Expense Log'!$A$5:$A$504,"<"&EDATE(DATE($B$3,7,1),1))+SUMIFS('Expense Log'!$K$5:$K$504,'Expense Log'!$D$5:$D$504,"Recruiting",'Expense Log'!$A$5:$A$504,">="&DATE($B$3,7,1),'Expense Log'!$A$5:$A$504,"<"&EDATE(DATE($B$3,7,1),1))+SUMIFS('Expense Log'!$K$5:$K$504,'Expense Log'!$D$5:$D$504,"Uniforms",'Expense Log'!$A$5:$A$504,">="&DATE($B$3,7,1),'Expense Log'!$A$5:$A$504,"<"&EDATE(DATE($B$3,7,1),1))+SUMIFS('Expense Log'!$K$5:$K$504,'Expense Log'!$D$5:$D$504,"Administrative Labor",'Expense Log'!$A$5:$A$504,">="&DATE($B$3,7,1),'Expense Log'!$A$5:$A$504,"<"&EDATE(DATE($B$3,7,1),1)) | I6: =SUMIFS('Expense Log'!$K$5:$K$504,'Expense Log'!$D$5:$D$504,"Cleaner Wages",'Expense Log'!$A$5:$A$504,">="&DATE($B$3,8,1),'Expense Log'!$A$5:$A$504,"<"&EDATE(DATE($B$3,8,1),1))+SUMIFS('Expense Log'!$K$5:$K$504,'Expense Log'!$D$5:$D$504,"Payroll Taxes",'Expense Log'!$A$5:$A$504,">="&DATE($B$3,8,1),'Expense Log'!$A$5:$A$504,"<"&EDATE(DATE($B$3,8,1),1))+SUMIFS('Expense Log'!$K$5:$K$504,'Expense Log'!$D$5:$D$504,"Workers Comp",'Expense Log'!$A$5:$A$504,">="&DATE($B$3,8,1),'Expense Log'!$A$5:$A$504,"<"&EDATE(DATE($B$3,8,1),1))+SUMIFS('Expense Log'!$K$5:$K$504,'Expense Log'!$D$5:$D$504,"Benefits",'Expense Log'!$A$5:$A$504,">="&DATE($B$3,8,1),'Expense Log'!$A$5:$A$504,"<"&EDATE(DATE($B$3,8,1),1))+SUMIFS('Expense Log'!$K$5:$K$504,'Expense Log'!$D$5:$D$504,"Bonuses",'Expense Log'!$A$5:$A$504,">="&DATE($B$3,8,1),'Expense Log'!$A$5:$A$504,"<"&EDATE(DATE($B$3,8,1),1))+SUMIFS('Expense Log'!$K$5:$K$504,'Expense Log'!$D$5:$D$504,"Training",'Expense Log'!$A$5:$A$504,">="&DATE($B$3,8,1),'Expense Log'!$A$5:$A$504,"<"&EDATE(DATE($B$3,8,1),1))+SUMIFS('Expense Log'!$K$5:$K$504,'Expense Log'!$D$5:$D$504,"Recruiting",'Expense Log'!$A$5:$A$504,">="&DATE($B$3,8,1),'Expense Log'!$A$5:$A$504,"<"&EDATE(DATE($B$3,8,1),1))+SUMIFS('Expense Log'!$K$5:$K$504,'Expense Log'!$D$5:$D$504,"Uniforms",'Expense Log'!$A$5:$A$504,">="&DATE($B$3,8,1),'Expense Log'!$A$5:$A$504,"<"&EDATE(DATE($B$3,8,1),1))+SUMIFS('Expense Log'!$K$5:$K$504,'Expense Log'!$D$5:$D$504,"Administrative Labor",'Expense Log'!$A$5:$A$504,">="&DATE($B$3,8,1),'Expense Log'!$A$5:$A$504,"<"&EDATE(DATE($B$3,8,1),1)) | J6: =SUMIFS('Expense Log'!$K$5:$K$504,'Expense Log'!$D$5:$D$504,"Cleaner Wages",'Expense Log'!$A$5:$A$504,">="&DATE($B$3,9,1),'Expense Log'!$A$5:$A$504,"<"&EDATE(DATE($B$3,9,1),1))+SUMIFS('Expense Log'!$K$5:$K$504,'Expense Log'!$D$5:$D$504,"Payroll Taxes",'Expense Log'!$A$5:$A$504,">="&DATE($B$3,9,1),'Expense Log'!$A$5:$A$504,"<"&EDATE(DATE($B$3,9,1),1))+SUMIFS('Expense Log'!$K$5:$K$504,'Expense Log'!$D$5:$D$504,"Workers Comp",'Expense Log'!$A$5:$A$504,">="&DATE($B$3,9,1),'Expense Log'!$A$5:$A$504,"<"&EDATE(DATE($B$3,9,1),1))+SUMIFS('Expense Log'!$K$5:$K$504,'Expense Log'!$D$5:$D$504,"Benefits",'Expense Log'!$A$5:$A$504,">="&DATE($B$3,9,1),'Expense Log'!$A$5:$A$504,"<"&EDATE(DATE($B$3,9,1),1))+SUMIFS('Expense Log'!$K$5:$K$504,'Expense Log'!$D$5:$D$504,"Bonuses",'Expense Log'!$A$5:$A$504,">="&DATE($B$3,9,1),'Expense Log'!$A$5:$A$504,"<"&EDATE(DATE($B$3,9,1),1))+SUMIFS('Expense Log'!$K$5:$K$504,'Expense Log'!$D$5:$D$504,"Training",'Expense Log'!$A$5:$A$504,">="&DATE($B$3,9,1),'Expense Log'!$A$5:$A$504,"<"&EDATE(DATE($B$3,9,1),1))+SUMIFS('Expense Log'!$K$5:$K$504,'Expense Log'!$D$5:$D$504,"Recruiting",'Expense Log'!$A$5:$A$504,">="&DATE($B$3,9,1),'Expense Log'!$A$5:$A$504,"<"&EDATE(DATE($B$3,9,1),1))+SUMIFS('Expense Log'!$K$5:$K$504,'Expense Log'!$D$5:$D$504,"Uniforms",'Expense Log'!$A$5:$A$504,">="&DATE($B$3,9,1),'Expense Log'!$A$5:$A$504,"<"&EDATE(DATE($B$3,9,1),1))+SUMIFS('Expense Log'!$K$5:$K$504,'Expense Log'!$D$5:$D$504,"Administrative Labor",'Expense Log'!$A$5:$A$504,">="&DATE($B$3,9,1),'Expense Log'!$A$5:$A$504,"<"&EDATE(DATE($B$3,9,1),1)) | K6: =SUMIFS('Expense Log'!$K$5:$K$504,'Expense Log'!$D$5:$D$504,"Cleaner Wages",'Expense Log'!$A$5:$A$504,">="&DATE($B$3,10,1),'Expense Log'!$A$5:$A$504,"<"&EDATE(DATE($B$3,10,1),1))+SUMIFS('Expense Log'!$K$5:$K$504,'Expense Log'!$D$5:$D$504,"Payroll Taxes",'Expense Log'!$A$5:$A$504,">="&DATE($B$3,10,1),'Expense Log'!$A$5:$A$504,"<"&EDATE(DATE($B$3,10,1),1))+SUMIFS('Expense Log'!$K$5:$K$504,'Expense Log'!$D$5:$D$504,"Workers Comp",'Expense Log'!$A$5:$A$504,">="&DATE($B$3,10,1),'Expense Log'!$A$5:$A$504,"<"&EDATE(DATE($B$3,10,1),1))+SUMIFS('Expense Log'!$K$5:$K$504,'Expense Log'!$D$5:$D$504,"Benefits",'Expense Log'!$A$5:$A$504,">="&DATE($B$3,10,1),'Expense Log'!$A$5:$A$504,"<"&EDATE(DATE($B$3,10,1),1))+SUMIFS('Expense Log'!$K$5:$K$504,'Expense Log'!$D$5:$D$504,"Bonuses",'Expense Log'!$A$5:$A$504,">="&DATE($B$3,10,1),'Expense Log'!$A$5:$A$504,"<"&EDATE(DATE($B$3,10,1),1))+SUMIFS('Expense Log'!$K$5:$K$504,'Expense Log'!$D$5:$D$504,"Training",'Expense Log'!$A$5:$A$504,">="&DATE($B$3,10,1),'Expense Log'!$A$5:$A$504,"<"&EDATE(DATE($B$3,10,1),1))+SUMIFS('Expense Log'!$K$5:$K$504,'Expense Log'!$D$5:$D$504,"Recruiting",'Expense Log'!$A$5:$A$504,">="&DATE($B$3,10,1),'Expense Log'!$A$5:$A$504,"<"&EDATE(DATE($B$3,10,1),1))+SUMIFS('Expense Log'!$K$5:$K$504,'Expense Log'!$D$5:$D$504,"Uniforms",'Expense Log'!$A$5:$A$504,">="&DATE($B$3,10,1),'Expense Log'!$A$5:$A$504,"<"&EDATE(DATE($B$3,10,1),1))+SUMIFS('Expense Log'!$K$5:$K$504,'Expense Log'!$D$5:$D$504,"Administrative Labor",'Expense Log'!$A$5:$A$504,">="&DATE($B$3,10,1),'Expense Log'!$A$5:$A$504,"<"&EDATE(DATE($B$3,10,1),1)) | L6: =SUMIFS('Expense Log'!$K$5:$K$504,'Expense Log'!$D$5:$D$504,"Cleaner Wages",'Expense Log'!$A$5:$A$504,">="&DATE($B$3,11,1),'Expense Log'!$A$5:$A$504,"<"&EDATE(DATE($B$3,11,1),1))+SUMIFS('Expense Log'!$K$5:$K$504,'Expense Log'!$D$5:$D$504,"Payroll Taxes",'Expense Log'!$A$5:$A$504,">="&DATE($B$3,11,1),'Expense Log'!$A$5:$A$504,"<"&EDATE(DATE($B$3,11,1),1))+SUMIFS('Expense Log'!$K$5:$K$504,'Expense Log'!$D$5:$D$504,"Workers Comp",'Expense Log'!$A$5:$A$504,">="&DATE($B$3,11,1),'Expense Log'!$A$5:$A$504,"<"&EDATE(DATE($B$3,11,1),1))+SUMIFS('Expense Log'!$K$5:$K$504,'Expense Log'!$D$5:$D$504,"Benefits",'Expense Log'!$A$5:$A$504,">="&DATE($B$3,11,1),'Expense Log'!$A$5:$A$504,"<"&EDATE(DATE($B$3,11,1),1))+SUMIFS('Expense Log'!$K$5:$K$504,'Expense Log'!$D$5:$D$504,"Bonuses",'Expense Log'!$A$5:$A$504,">="&DATE($B$3,11,1),'Expense Log'!$A$5:$A$504,"<"&EDATE(DATE($B$3,11,1),1))+SUMIFS('Expense Log'!$K$5:$K$504,'Expense Log'!$D$5:$D$504,"Training",'Expense Log'!$A$5:$A$504,">="&DATE($B$3,11,1),'Expense Log'!$A$5:$A$504,"<"&EDATE(DATE($B$3,11,1),1))+SUMIFS('Expense Log'!$K$5:$K$504,'Expense Log'!$D$5:$D$504,"Recruiting",'Expense Log'!$A$5:$A$504,">="&DATE($B$3,11,1),'Expense Log'!$A$5:$A$504,"<"&EDATE(DATE($B$3,11,1),1))+SUMIFS('Expense Log'!$K$5:$K$504,'Expense Log'!$D$5:$D$504,"Uniforms",'Expense Log'!$A$5:$A$504,">="&DATE($B$3,11,1),'Expense Log'!$A$5:$A$504,"<"&EDATE(DATE($B$3,11,1),1))+SUMIFS('Expense Log'!$K$5:$K$504,'Expense Log'!$D$5:$D$504,"Administrative Labor",'Expense Log'!$A$5:$A$504,">="&DATE($B$3,11,1),'Expense Log'!$A$5:$A$504,"<"&EDATE(DATE($B$3,11,1),1)) | M6: =SUMIFS('Expense Log'!$K$5:$K$504,'Expense Log'!$D$5:$D$504,"Cleaner Wages",'Expense Log'!$A$5:$A$504,">="&DATE($B$3,12,1),'Expense Log'!$A$5:$A$504,"<"&EDATE(DATE($B$3,12,1),1))+SUMIFS('Expense Log'!$K$5:$K$504,'Expense Log'!$D$5:$D$504,"Payroll Taxes",'Expense Log'!$A$5:$A$504,">="&DATE($B$3,12,1),'Expense Log'!$A$5:$A$504,"<"&EDATE(DATE($B$3,12,1),1))+SUMIFS('Expense Log'!$K$5:$K$504,'Expense Log'!$D$5:$D$504,"Workers Comp",'Expense Log'!$A$5:$A$504,">="&DATE($B$3,12,1),'Expense Log'!$A$5:$A$504,"<"&EDATE(DATE($B$3,12,1),1))+SUMIFS('Expense Log'!$K$5:$K$504,'Expense Log'!$D$5:$D$504,"Benefits",'Expense Log'!$A$5:$A$504,">="&DATE($B$3,12,1),'Expense Log'!$A$5:$A$504,"<"&EDATE(DATE($B$3,12,1),1))+SUMIFS('Expense Log'!$K$5:$K$504,'Expense Log'!$D$5:$D$504,"Bonuses",'Expense Log'!$A$5:$A$504,">="&DATE($B$3,12,1),'Expense Log'!$A$5:$A$504,"<"&EDATE(DATE($B$3,12,1),1))+SUMIFS('Expense Log'!$K$5:$K$504,'Expense Log'!$D$5:$D$504,"Training",'Expense Log'!$A$5:$A$504,">="&DATE($B$3,12,1),'Expense Log'!$A$5:$A$504,"<"&EDATE(DATE($B$3,12,1),1))+SUMIFS('Expense Log'!$K$5:$K$504,'Expense Log'!$D$5:$D$504,"Recruiting",'Expense Log'!$A$5:$A$504,">="&DATE($B$3,12,1),'Expense Log'!$A$5:$A$504,"<"&EDATE(DATE($B$3,12,1),1))+SUMIFS('Expense Log'!$K$5:$K$504,'Expense Log'!$D$5:$D$504,"Uniforms",'Expense Log'!$A$5:$A$504,">="&DATE($B$3,12,1),'Expense Log'!$A$5:$A$504,"<"&EDATE(DATE($B$3,12,1),1))+SUMIFS('Expense Log'!$K$5:$K$504,'Expense Log'!$D$5:$D$504,"Administrative Labor",'Expense Log'!$A$5:$A$504,">="&DATE($B$3,12,1),'Expense Log'!$A$5:$A$504,"<"&EDATE(DATE($B$3,12,1),1)) | N6: =SUM(B6:M6)
A7: Cleaning Supplies | B7: =SUMIFS('Expense Log'!$K$5:$K$504,'Expense Log'!$D$5:$D$504,"Cleaning Chemicals",'Expense Log'!$A$5:$A$504,">="&DATE($B$3,1,1),'Expense Log'!$A$5:$A$504,"<"&EDATE(DATE($B$3,1,1),1))+SUMIFS('Expense Log'!$K$5:$K$504,'Expense Log'!$D$5:$D$504,"Microfiber / Mop Supplies",'Expense Log'!$A$5:$A$504,">="&DATE($B$3,1,1),'Expense Log'!$A$5:$A$504,"<"&EDATE(DATE($B$3,1,1),1))+SUMIFS('Expense Log'!$K$5:$K$504,'Expense Log'!$D$5:$D$504,"Vacuum Supplies",'Expense Log'!$A$5:$A$504,">="&DATE($B$3,1,1),'Expense Log'!$A$5:$A$504,"<"&EDATE(DATE($B$3,1,1),1))+SUMIFS('Expense Log'!$K$5:$K$504,'Expense Log'!$D$5:$D$504,"Trash Liners",'Expense Log'!$A$5:$A$504,">="&DATE($B$3,1,1),'Expense Log'!$A$5:$A$504,"<"&EDATE(DATE($B$3,1,1),1))+SUMIFS('Expense Log'!$K$5:$K$504,'Expense Log'!$D$5:$D$504,"PPE",'Expense Log'!$A$5:$A$504,">="&DATE($B$3,1,1),'Expense Log'!$A$5:$A$504,"<"&EDATE(DATE($B$3,1,1),1))+SUMIFS('Expense Log'!$K$5:$K$504,'Expense Log'!$D$5:$D$504,"Disposable Supplies",'Expense Log'!$A$5:$A$504,">="&DATE($B$3,1,1),'Expense Log'!$A$5:$A$504,"<"&EDATE(DATE($B$3,1,1),1))+SUMIFS('Expense Log'!$K$5:$K$504,'Expense Log'!$D$5:$D$504,"Guest / Client Consumables",'Expense Log'!$A$5:$A$504,">="&DATE($B$3,1,1),'Expense Log'!$A$5:$A$504,"<"&EDATE(DATE($B$3,1,1),1))+SUMIFS('Expense Log'!$K$5:$K$504,'Expense Log'!$D$5:$D$504,"Other Cleaning Supplies",'Expense Log'!$A$5:$A$504,">="&DATE($B$3,1,1),'Expense Log'!$A$5:$A$504,"<"&EDATE(DATE($B$3,1,1),1)) | C7: =SUMIFS('Expense Log'!$K$5:$K$504,'Expense Log'!$D$5:$D$504,"Cleaning Chemicals",'Expense Log'!$A$5:$A$504,">="&DATE($B$3,2,1),'Expense Log'!$A$5:$A$504,"<"&EDATE(DATE($B$3,2,1),1))+SUMIFS('Expense Log'!$K$5:$K$504,'Expense Log'!$D$5:$D$504,"Microfiber / Mop Supplies",'Expense Log'!$A$5:$A$504,">="&DATE($B$3,2,1),'Expense Log'!$A$5:$A$504,"<"&EDATE(DATE($B$3,2,1),1))+SUMIFS('Expense Log'!$K$5:$K$504,'Expense Log'!$D$5:$D$504,"Vacuum Supplies",'Expense Log'!$A$5:$A$504,">="&DATE($B$3,2,1),'Expense Log'!$A$5:$A$504,"<"&EDATE(DATE($B$3,2,1),1))+SUMIFS('Expense Log'!$K$5:$K$504,'Expense Log'!$D$5:$D$504,"Trash Liners",'Expense Log'!$A$5:$A$504,">="&DATE($B$3,2,1),'Expense Log'!$A$5:$A$504,"<"&EDATE(DATE($B$3,2,1),1))+SUMIFS('Expense Log'!$K$5:$K$504,'Expense Log'!$D$5:$D$504,"PPE",'Expense Log'!$A$5:$A$504,">="&DATE($B$3,2,1),'Expense Log'!$A$5:$A$504,"<"&EDATE(DATE($B$3,2,1),1))+SUMIFS('Expense Log'!$K$5:$K$504,'Expense Log'!$D$5:$D$504,"Disposable Supplies",'Expense Log'!$A$5:$A$504,">="&DATE($B$3,2,1),'Expense Log'!$A$5:$A$504,"<"&EDATE(DATE($B$3,2,1),1))+SUMIFS('Expense Log'!$K$5:$K$504,'Expense Log'!$D$5:$D$504,"Guest / Client Consumables",'Expense Log'!$A$5:$A$504,">="&DATE($B$3,2,1),'Expense Log'!$A$5:$A$504,"<"&EDATE(DATE($B$3,2,1),1))+SUMIFS('Expense Log'!$K$5:$K$504,'Expense Log'!$D$5:$D$504,"Other Cleaning Supplies",'Expense Log'!$A$5:$A$504,">="&DATE($B$3,2,1),'Expense Log'!$A$5:$A$504,"<"&EDATE(DATE($B$3,2,1),1)) | D7: =SUMIFS('Expense Log'!$K$5:$K$504,'Expense Log'!$D$5:$D$504,"Cleaning Chemicals",'Expense Log'!$A$5:$A$504,">="&DATE($B$3,3,1),'Expense Log'!$A$5:$A$504,"<"&EDATE(DATE($B$3,3,1),1))+SUMIFS('Expense Log'!$K$5:$K$504,'Expense Log'!$D$5:$D$504,"Microfiber / Mop Supplies",'Expense Log'!$A$5:$A$504,">="&DATE($B$3,3,1),'Expense Log'!$A$5:$A$504,"<"&EDATE(DATE($B$3,3,1),1))+SUMIFS('Expense Log'!$K$5:$K$504,'Expense Log'!$D$5:$D$504,"Vacuum Supplies",'Expense Log'!$A$5:$A$504,">="&DATE($B$3,3,1),'Expense Log'!$A$5:$A$504,"<"&EDATE(DATE($B$3,3,1),1))+SUMIFS('Expense Log'!$K$5:$K$504,'Expense Log'!$D$5:$D$504,"Trash Liners",'Expense Log'!$A$5:$A$504,">="&DATE($B$3,3,1),'Expense Log'!$A$5:$A$504,"<"&EDATE(DATE($B$3,3,1),1))+SUMIFS('Expense Log'!$K$5:$K$504,'Expense Log'!$D$5:$D$504,"PPE",'Expense Log'!$A$5:$A$504,">="&DATE($B$3,3,1),'Expense Log'!$A$5:$A$504,"<"&EDATE(DATE($B$3,3,1),1))+SUMIFS('Expense Log'!$K$5:$K$504,'Expense Log'!$D$5:$D$504,"Disposable Supplies",'Expense Log'!$A$5:$A$504,">="&DATE($B$3,3,1),'Expense Log'!$A$5:$A$504,"<"&EDATE(DATE($B$3,3,1),1))+SUMIFS('Expense Log'!$K$5:$K$504,'Expense Log'!$D$5:$D$504,"Guest / Client Consumables",'Expense Log'!$A$5:$A$504,">="&DATE($B$3,3,1),'Expense Log'!$A$5:$A$504,"<"&EDATE(DATE($B$3,3,1),1))+SUMIFS('Expense Log'!$K$5:$K$504,'Expense Log'!$D$5:$D$504,"Other Cleaning Supplies",'Expense Log'!$A$5:$A$504,">="&DATE($B$3,3,1),'Expense Log'!$A$5:$A$504,"<"&EDATE(DATE($B$3,3,1),1)) | E7: =SUMIFS('Expense Log'!$K$5:$K$504,'Expense Log'!$D$5:$D$504,"Cleaning Chemicals",'Expense Log'!$A$5:$A$504,">="&DATE($B$3,4,1),'Expense Log'!$A$5:$A$504,"<"&EDATE(DATE($B$3,4,1),1))+SUMIFS('Expense Log'!$K$5:$K$504,'Expense Log'!$D$5:$D$504,"Microfiber / Mop Supplies",'Expense Log'!$A$5:$A$504,">="&DATE($B$3,4,1),'Expense Log'!$A$5:$A$504,"<"&EDATE(DATE($B$3,4,1),1))+SUMIFS('Expense Log'!$K$5:$K$504,'Expense Log'!$D$5:$D$504,"Vacuum Supplies",'Expense Log'!$A$5:$A$504,">="&DATE($B$3,4,1),'Expense Log'!$A$5:$A$504,"<"&EDATE(DATE($B$3,4,1),1))+SUMIFS('Expense Log'!$K$5:$K$504,'Expense Log'!$D$5:$D$504,"Trash Liners",'Expense Log'!$A$5:$A$504,">="&DATE($B$3,4,1),'Expense Log'!$A$5:$A$504,"<"&EDATE(DATE($B$3,4,1),1))+SUMIFS('Expense Log'!$K$5:$K$504,'Expense Log'!$D$5:$D$504,"PPE",'Expense Log'!$A$5:$A$504,">="&DATE($B$3,4,1),'Expense Log'!$A$5:$A$504,"<"&EDATE(DATE($B$3,4,1),1))+SUMIFS('Expense Log'!$K$5:$K$504,'Expense Log'!$D$5:$D$504,"Disposable Supplies",'Expense Log'!$A$5:$A$504,">="&DATE($B$3,4,1),'Expense Log'!$A$5:$A$504,"<"&EDATE(DATE($B$3,4,1),1))+SUMIFS('Expense Log'!$K$5:$K$504,'Expense Log'!$D$5:$D$504,"Guest / Client Consumables",'Expense Log'!$A$5:$A$504,">="&DATE($B$3,4,1),'Expense Log'!$A$5:$A$504,"<"&EDATE(DATE($B$3,4,1),1))+SUMIFS('Expense Log'!$K$5:$K$504,'Expense Log'!$D$5:$D$504,"Other Cleaning Supplies",'Expense Log'!$A$5:$A$504,">="&DATE($B$3,4,1),'Expense Log'!$A$5:$A$504,"<"&EDATE(DATE($B$3,4,1),1)) | F7: =SUMIFS('Expense Log'!$K$5:$K$504,'Expense Log'!$D$5:$D$504,"Cleaning Chemicals",'Expense Log'!$A$5:$A$504,">="&DATE($B$3,5,1),'Expense Log'!$A$5:$A$504,"<"&EDATE(DATE($B$3,5,1),1))+SUMIFS('Expense Log'!$K$5:$K$504,'Expense Log'!$D$5:$D$504,"Microfiber / Mop Supplies",'Expense Log'!$A$5:$A$504,">="&DATE($B$3,5,1),'Expense Log'!$A$5:$A$504,"<"&EDATE(DATE($B$3,5,1),1))+SUMIFS('Expense Log'!$K$5:$K$504,'Expense Log'!$D$5:$D$504,"Vacuum Supplies",'Expense Log'!$A$5:$A$504,">="&DATE($B$3,5,1),'Expense Log'!$A$5:$A$504,"<"&EDATE(DATE($B$3,5,1),1))+SUMIFS('Expense Log'!$K$5:$K$504,'Expense Log'!$D$5:$D$504,"Trash Liners",'Expense Log'!$A$5:$A$504,">="&DATE($B$3,5,1),'Expense Log'!$A$5:$A$504,"<"&EDATE(DATE($B$3,5,1),1))+SUMIFS('Expense Log'!$K$5:$K$504,'Expense Log'!$D$5:$D$504,"PPE",'Expense Log'!$A$5:$A$504,">="&DATE($B$3,5,1),'Expense Log'!$A$5:$A$504,"<"&EDATE(DATE($B$3,5,1),1))+SUMIFS('Expense Log'!$K$5:$K$504,'Expense Log'!$D$5:$D$504,"Disposable Supplies",'Expense Log'!$A$5:$A$504,">="&DATE($B$3,5,1),'Expense Log'!$A$5:$A$504,"<"&EDATE(DATE($B$3,5,1),1))+SUMIFS('Expense Log'!$K$5:$K$504,'Expense Log'!$D$5:$D$504,"Guest / Client Consumables",'Expense Log'!$A$5:$A$504,">="&DATE($B$3,5,1),'Expense Log'!$A$5:$A$504,"<"&EDATE(DATE($B$3,5,1),1))+SUMIFS('Expense Log'!$K$5:$K$504,'Expense Log'!$D$5:$D$504,"Other Cleaning Supplies",'Expense Log'!$A$5:$A$504,">="&DATE($B$3,5,1),'Expense Log'!$A$5:$A$504,"<"&EDATE(DATE($B$3,5,1),1)) | G7: =SUMIFS('Expense Log'!$K$5:$K$504,'Expense Log'!$D$5:$D$504,"Cleaning Chemicals",'Expense Log'!$A$5:$A$504,">="&DATE($B$3,6,1),'Expense Log'!$A$5:$A$504,"<"&EDATE(DATE($B$3,6,1),1))+SUMIFS('Expense Log'!$K$5:$K$504,'Expense Log'!$D$5:$D$504,"Microfiber / Mop Supplies",'Expense Log'!$A$5:$A$504,">="&DATE($B$3,6,1),'Expense Log'!$A$5:$A$504,"<"&EDATE(DATE($B$3,6,1),1))+SUMIFS('Expense Log'!$K$5:$K$504,'Expense Log'!$D$5:$D$504,"Vacuum Supplies",'Expense Log'!$A$5:$A$504,">="&DATE($B$3,6,1),'Expense Log'!$A$5:$A$504,"<"&EDATE(DATE($B$3,6,1),1))+SUMIFS('Expense Log'!$K$5:$K$504,'Expense Log'!$D$5:$D$504,"Trash Liners",'Expense Log'!$A$5:$A$504,">="&DATE($B$3,6,1),'Expense Log'!$A$5:$A$504,"<"&EDATE(DATE($B$3,6,1),1))+SUMIFS('Expense Log'!$K$5:$K$504,'Expense Log'!$D$5:$D$504,"PPE",'Expense Log'!$A$5:$A$504,">="&DATE($B$3,6,1),'Expense Log'!$A$5:$A$504,"<"&EDATE(DATE($B$3,6,1),1))+SUMIFS('Expense Log'!$K$5:$K$504,'Expense Log'!$D$5:$D$504,"Disposable Supplies",'Expense Log'!$A$5:$A$504,">="&DATE($B$3,6,1),'Expense Log'!$A$5:$A$504,"<"&EDATE(DATE($B$3,6,1),1))+SUMIFS('Expense Log'!$K$5:$K$504,'Expense Log'!$D$5:$D$504,"Guest / Client Consumables",'Expense Log'!$A$5:$A$504,">="&DATE($B$3,6,1),'Expense Log'!$A$5:$A$504,"<"&EDATE(DATE($B$3,6,1),1))+SUMIFS('Expense Log'!$K$5:$K$504,'Expense Log'!$D$5:$D$504,"Other Cleaning Supplies",'Expense Log'!$A$5:$A$504,">="&DATE($B$3,6,1),'Expense Log'!$A$5:$A$504,"<"&EDATE(DATE($B$3,6,1),1)) | H7: =SUMIFS('Expense Log'!$K$5:$K$504,'Expense Log'!$D$5:$D$504,"Cleaning Chemicals",'Expense Log'!$A$5:$A$504,">="&DATE($B$3,7,1),'Expense Log'!$A$5:$A$504,"<"&EDATE(DATE($B$3,7,1),1))+SUMIFS('Expense Log'!$K$5:$K$504,'Expense Log'!$D$5:$D$504,"Microfiber / Mop Supplies",'Expense Log'!$A$5:$A$504,">="&DATE($B$3,7,1),'Expense Log'!$A$5:$A$504,"<"&EDATE(DATE($B$3,7,1),1))+SUMIFS('Expense Log'!$K$5:$K$504,'Expense Log'!$D$5:$D$504,"Vacuum Supplies",'Expense Log'!$A$5:$A$504,">="&DATE($B$3,7,1),'Expense Log'!$A$5:$A$504,"<"&EDATE(DATE($B$3,7,1),1))+SUMIFS('Expense Log'!$K$5:$K$504,'Expense Log'!$D$5:$D$504,"Trash Liners",'Expense Log'!$A$5:$A$504,">="&DATE($B$3,7,1),'Expense Log'!$A$5:$A$504,"<"&EDATE(DATE($B$3,7,1),1))+SUMIFS('Expense Log'!$K$5:$K$504,'Expense Log'!$D$5:$D$504,"PPE",'Expense Log'!$A$5:$A$504,">="&DATE($B$3,7,1),'Expense Log'!$A$5:$A$504,"<"&EDATE(DATE($B$3,7,1),1))+SUMIFS('Expense Log'!$K$5:$K$504,'Expense Log'!$D$5:$D$504,"Disposable Supplies",'Expense Log'!$A$5:$A$504,">="&DATE($B$3,7,1),'Expense Log'!$A$5:$A$504,"<"&EDATE(DATE($B$3,7,1),1))+SUMIFS('Expense Log'!$K$5:$K$504,'Expense Log'!$D$5:$D$504,"Guest / Client Consumables",'Expense Log'!$A$5:$A$504,">="&DATE($B$3,7,1),'Expense Log'!$A$5:$A$504,"<"&EDATE(DATE($B$3,7,1),1))+SUMIFS('Expense Log'!$K$5:$K$504,'Expense Log'!$D$5:$D$504,"Other Cleaning Supplies",'Expense Log'!$A$5:$A$504,">="&DATE($B$3,7,1),'Expense Log'!$A$5:$A$504,"<"&EDATE(DATE($B$3,7,1),1)) | I7: =SUMIFS('Expense Log'!$K$5:$K$504,'Expense Log'!$D$5:$D$504,"Cleaning Chemicals",'Expense Log'!$A$5:$A$504,">="&DATE($B$3,8,1),'Expense Log'!$A$5:$A$504,"<"&EDATE(DATE($B$3,8,1),1))+SUMIFS('Expense Log'!$K$5:$K$504,'Expense Log'!$D$5:$D$504,"Microfiber / Mop Supplies",'Expense Log'!$A$5:$A$504,">="&DATE($B$3,8,1),'Expense Log'!$A$5:$A$504,"<"&EDATE(DATE($B$3,8,1),1))+SUMIFS('Expense Log'!$K$5:$K$504,'Expense Log'!$D$5:$D$504,"Vacuum Supplies",'Expense Log'!$A$5:$A$504,">="&DATE($B$3,8,1),'Expense Log'!$A$5:$A$504,"<"&EDATE(DATE($B$3,8,1),1))+SUMIFS('Expense Log'!$K$5:$K$504,'Expense Log'!$D$5:$D$504,"Trash Liners",'Expense Log'!$A$5:$A$504,">="&DATE($B$3,8,1),'Expense Log'!$A$5:$A$504,"<"&EDATE(DATE($B$3,8,1),1))+SUMIFS('Expense Log'!$K$5:$K$504,'Expense Log'!$D$5:$D$504,"PPE",'Expense Log'!$A$5:$A$504,">="&DATE($B$3,8,1),'Expense Log'!$A$5:$A$504,"<"&EDATE(DATE($B$3,8,1),1))+SUMIFS('Expense Log'!$K$5:$K$504,'Expense Log'!$D$5:$D$504,"Disposable Supplies",'Expense Log'!$A$5:$A$504,">="&DATE($B$3,8,1),'Expense Log'!$A$5:$A$504,"<"&EDATE(DATE($B$3,8,1),1))+SUMIFS('Expense Log'!$K$5:$K$504,'Expense Log'!$D$5:$D$504,"Guest / Client Consumables",'Expense Log'!$A$5:$A$504,">="&DATE($B$3,8,1),'Expense Log'!$A$5:$A$504,"<"&EDATE(DATE($B$3,8,1),1))+SUMIFS('Expense Log'!$K$5:$K$504,'Expense Log'!$D$5:$D$504,"Other Cleaning Supplies",'Expense Log'!$A$5:$A$504,">="&DATE($B$3,8,1),'Expense Log'!$A$5:$A$504,"<"&EDATE(DATE($B$3,8,1),1)) | J7: =SUMIFS('Expense Log'!$K$5:$K$504,'Expense Log'!$D$5:$D$504,"Cleaning Chemicals",'Expense Log'!$A$5:$A$504,">="&DATE($B$3,9,1),'Expense Log'!$A$5:$A$504,"<"&EDATE(DATE($B$3,9,1),1))+SUMIFS('Expense Log'!$K$5:$K$504,'Expense Log'!$D$5:$D$504,"Microfiber / Mop Supplies",'Expense Log'!$A$5:$A$504,">="&DATE($B$3,9,1),'Expense Log'!$A$5:$A$504,"<"&EDATE(DATE($B$3,9,1),1))+SUMIFS('Expense Log'!$K$5:$K$504,'Expense Log'!$D$5:$D$504,"Vacuum Supplies",'Expense Log'!$A$5:$A$504,">="&DATE($B$3,9,1),'Expense Log'!$A$5:$A$504,"<"&EDATE(DATE($B$3,9,1),1))+SUMIFS('Expense Log'!$K$5:$K$504,'Expense Log'!$D$5:$D$504,"Trash Liners",'Expense Log'!$A$5:$A$504,">="&DATE($B$3,9,1),'Expense Log'!$A$5:$A$504,"<"&EDATE(DATE($B$3,9,1),1))+SUMIFS('Expense Log'!$K$5:$K$504,'Expense Log'!$D$5:$D$504,"PPE",'Expense Log'!$A$5:$A$504,">="&DATE($B$3,9,1),'Expense Log'!$A$5:$A$504,"<"&EDATE(DATE($B$3,9,1),1))+SUMIFS('Expense Log'!$K$5:$K$504,'Expense Log'!$D$5:$D$504,"Disposable Supplies",'Expense Log'!$A$5:$A$504,">="&DATE($B$3,9,1),'Expense Log'!$A$5:$A$504,"<"&EDATE(DATE($B$3,9,1),1))+SUMIFS('Expense Log'!$K$5:$K$504,'Expense Log'!$D$5:$D$504,"Guest / Client Consumables",'Expense Log'!$A$5:$A$504,">="&DATE($B$3,9,1),'Expense Log'!$A$5:$A$504,"<"&EDATE(DATE($B$3,9,1),1))+SUMIFS('Expense Log'!$K$5:$K$504,'Expense Log'!$D$5:$D$504,"Other Cleaning Supplies",'Expense Log'!$A$5:$A$504,">="&DATE($B$3,9,1),'Expense Log'!$A$5:$A$504,"<"&EDATE(DATE($B$3,9,1),1)) | K7: =SUMIFS('Expense Log'!$K$5:$K$504,'Expense Log'!$D$5:$D$504,"Cleaning Chemicals",'Expense Log'!$A$5:$A$504,">="&DATE($B$3,10,1),'Expense Log'!$A$5:$A$504,"<"&EDATE(DATE($B$3,10,1),1))+SUMIFS('Expense Log'!$K$5:$K$504,'Expense Log'!$D$5:$D$504,"Microfiber / Mop Supplies",'Expense Log'!$A$5:$A$504,">="&DATE($B$3,10,1),'Expense Log'!$A$5:$A$504,"<"&EDATE(DATE($B$3,10,1),1))+SUMIFS('Expense Log'!$K$5:$K$504,'Expense Log'!$D$5:$D$504,"Vacuum Supplies",'Expense Log'!$A$5:$A$504,">="&DATE($B$3,10,1),'Expense Log'!$A$5:$A$504,"<"&EDATE(DATE($B$3,10,1),1))+SUMIFS('Expense Log'!$K$5:$K$504,'Expense Log'!$D$5:$D$504,"Trash Liners",'Expense Log'!$A$5:$A$504,">="&DATE($B$3,10,1),'Expense Log'!$A$5:$A$504,"<"&EDATE(DATE($B$3,10,1),1))+SUMIFS('Expense Log'!$K$5:$K$504,'Expense Log'!$D$5:$D$504,"PPE",'Expense Log'!$A$5:$A$504,">="&DATE($B$3,10,1),'Expense Log'!$A$5:$A$504,"<"&EDATE(DATE($B$3,10,1),1))+SUMIFS('Expense Log'!$K$5:$K$504,'Expense Log'!$D$5:$D$504,"Disposable Supplies",'Expense Log'!$A$5:$A$504,">="&DATE($B$3,10,1),'Expense Log'!$A$5:$A$504,"<"&EDATE(DATE($B$3,10,1),1))+SUMIFS('Expense Log'!$K$5:$K$504,'Expense Log'!$D$5:$D$504,"Guest / Client Consumables",'Expense Log'!$A$5:$A$504,">="&DATE($B$3,10,1),'Expense Log'!$A$5:$A$504,"<"&EDATE(DATE($B$3,10,1),1))+SUMIFS('Expense Log'!$K$5:$K$504,'Expense Log'!$D$5:$D$504,"Other Cleaning Supplies",'Expense Log'!$A$5:$A$504,">="&DATE($B$3,10,1),'Expense Log'!$A$5:$A$504,"<"&EDATE(DATE($B$3,10,1),1)) | L7: =SUMIFS('Expense Log'!$K$5:$K$504,'Expense Log'!$D$5:$D$504,"Cleaning Chemicals",'Expense Log'!$A$5:$A$504,">="&DATE($B$3,11,1),'Expense Log'!$A$5:$A$504,"<"&EDATE(DATE($B$3,11,1),1))+SUMIFS('Expense Log'!$K$5:$K$504,'Expense Log'!$D$5:$D$504,"Microfiber / Mop Supplies",'Expense Log'!$A$5:$A$504,">="&DATE($B$3,11,1),'Expense Log'!$A$5:$A$504,"<"&EDATE(DATE($B$3,11,1),1))+SUMIFS('Expense Log'!$K$5:$K$504,'Expense Log'!$D$5:$D$504,"Vacuum Supplies",'Expense Log'!$A$5:$A$504,">="&DATE($B$3,11,1),'Expense Log'!$A$5:$A$504,"<"&EDATE(DATE($B$3,11,1),1))+SUMIFS('Expense Log'!$K$5:$K$504,'Expense Log'!$D$5:$D$504,"Trash Liners",'Expense Log'!$A$5:$A$504,">="&DATE($B$3,11,1),'Expense Log'!$A$5:$A$504,"<"&EDATE(DATE($B$3,11,1),1))+SUMIFS('Expense Log'!$K$5:$K$504,'Expense Log'!$D$5:$D$504,"PPE",'Expense Log'!$A$5:$A$504,">="&DATE($B$3,11,1),'Expense Log'!$A$5:$A$504,"<"&EDATE(DATE($B$3,11,1),1))+SUMIFS('Expense Log'!$K$5:$K$504,'Expense Log'!$D$5:$D$504,"Disposable Supplies",'Expense Log'!$A$5:$A$504,">="&DATE($B$3,11,1),'Expense Log'!$A$5:$A$504,"<"&EDATE(DATE($B$3,11,1),1))+SUMIFS('Expense Log'!$K$5:$K$504,'Expense Log'!$D$5:$D$504,"Guest / Client Consumables",'Expense Log'!$A$5:$A$504,">="&DATE($B$3,11,1),'Expense Log'!$A$5:$A$504,"<"&EDATE(DATE($B$3,11,1),1))+SUMIFS('Expense Log'!$K$5:$K$504,'Expense Log'!$D$5:$D$504,"Other Cleaning Supplies",'Expense Log'!$A$5:$A$504,">="&DATE($B$3,11,1),'Expense Log'!$A$5:$A$504,"<"&EDATE(DATE($B$3,11,1),1)) | M7: =SUMIFS('Expense Log'!$K$5:$K$504,'Expense Log'!$D$5:$D$504,"Cleaning Chemicals",'Expense Log'!$A$5:$A$504,">="&DATE($B$3,12,1),'Expense Log'!$A$5:$A$504,"<"&EDATE(DATE($B$3,12,1),1))+SUMIFS('Expense Log'!$K$5:$K$504,'Expense Log'!$D$5:$D$504,"Microfiber / Mop Supplies",'Expense Log'!$A$5:$A$504,">="&DATE($B$3,12,1),'Expense Log'!$A$5:$A$504,"<"&EDATE(DATE($B$3,12,1),1))+SUMIFS('Expense Log'!$K$5:$K$504,'Expense Log'!$D$5:$D$504,"Vacuum Supplies",'Expense Log'!$A$5:$A$504,">="&DATE($B$3,12,1),'Expense Log'!$A$5:$A$504,"<"&EDATE(DATE($B$3,12,1),1))+SUMIFS('Expense Log'!$K$5:$K$504,'Expense Log'!$D$5:$D$504,"Trash Liners",'Expense Log'!$A$5:$A$504,">="&DATE($B$3,12,1),'Expense Log'!$A$5:$A$504,"<"&EDATE(DATE($B$3,12,1),1))+SUMIFS('Expense Log'!$K$5:$K$504,'Expense Log'!$D$5:$D$504,"PPE",'Expense Log'!$A$5:$A$504,">="&DATE($B$3,12,1),'Expense Log'!$A$5:$A$504,"<"&EDATE(DATE($B$3,12,1),1))+SUMIFS('Expense Log'!$K$5:$K$504,'Expense Log'!$D$5:$D$504,"Disposable Supplies",'Expense Log'!$A$5:$A$504,">="&DATE($B$3,12,1),'Expense Log'!$A$5:$A$504,"<"&EDATE(DATE($B$3,12,1),1))+SUMIFS('Expense Log'!$K$5:$K$504,'Expense Log'!$D$5:$D$504,"Guest / Client Consumables",'Expense Log'!$A$5:$A$504,">="&DATE($B$3,12,1),'Expense Log'!$A$5:$A$504,"<"&EDATE(DATE($B$3,12,1),1))+SUMIFS('Expense Log'!$K$5:$K$504,'Expense Log'!$D$5:$D$504,"Other Cleaning Supplies",'Expense Log'!$A$5:$A$504,">="&DATE($B$3,12,1),'Expense Log'!$A$5:$A$504,"<"&EDATE(DATE($B$3,12,1),1)) | N7: =SUM(B7:M7)
A8: Equipment | B8: =SUMIFS('Expense Log'!$K$5:$K$504,'Expense Log'!$D$5:$D$504,"Vacuums",'Expense Log'!$A$5:$A$504,">="&DATE($B$3,1,1),'Expense Log'!$A$5:$A$504,"<"&EDATE(DATE($B$3,1,1),1))+SUMIFS('Expense Log'!$K$5:$K$504,'Expense Log'!$D$5:$D$504,"Carpet Equipment",'Expense Log'!$A$5:$A$504,">="&DATE($B$3,1,1),'Expense Log'!$A$5:$A$504,"<"&EDATE(DATE($B$3,1,1),1))+SUMIFS('Expense Log'!$K$5:$K$504,'Expense Log'!$D$5:$D$504,"Floor Machines",'Expense Log'!$A$5:$A$504,">="&DATE($B$3,1,1),'Expense Log'!$A$5:$A$504,"<"&EDATE(DATE($B$3,1,1),1))+SUMIFS('Expense Log'!$K$5:$K$504,'Expense Log'!$D$5:$D$504,"Mops / Buckets",'Expense Log'!$A$5:$A$504,">="&DATE($B$3,1,1),'Expense Log'!$A$5:$A$504,"<"&EDATE(DATE($B$3,1,1),1))+SUMIFS('Expense Log'!$K$5:$K$504,'Expense Log'!$D$5:$D$504,"Extension Tools",'Expense Log'!$A$5:$A$504,">="&DATE($B$3,1,1),'Expense Log'!$A$5:$A$504,"<"&EDATE(DATE($B$3,1,1),1))+SUMIFS('Expense Log'!$K$5:$K$504,'Expense Log'!$D$5:$D$504,"Equipment Repairs",'Expense Log'!$A$5:$A$504,">="&DATE($B$3,1,1),'Expense Log'!$A$5:$A$504,"<"&EDATE(DATE($B$3,1,1),1))+SUMIFS('Expense Log'!$K$5:$K$504,'Expense Log'!$D$5:$D$504,"Replacement Parts",'Expense Log'!$A$5:$A$504,">="&DATE($B$3,1,1),'Expense Log'!$A$5:$A$504,"<"&EDATE(DATE($B$3,1,1),1))+SUMIFS('Expense Log'!$K$5:$K$504,'Expense Log'!$D$5:$D$504,"Equipment Rental",'Expense Log'!$A$5:$A$504,">="&DATE($B$3,1,1),'Expense Log'!$A$5:$A$504,"<"&EDATE(DATE($B$3,1,1),1)) | C8: =SUMIFS('Expense Log'!$K$5:$K$504,'Expense Log'!$D$5:$D$504,"Vacuums",'Expense Log'!$A$5:$A$504,">="&DATE($B$3,2,1),'Expense Log'!$A$5:$A$504,"<"&EDATE(DATE($B$3,2,1),1))+SUMIFS('Expense Log'!$K$5:$K$504,'Expense Log'!$D$5:$D$504,"Carpet Equipment",'Expense Log'!$A$5:$A$504,">="&DATE($B$3,2,1),'Expense Log'!$A$5:$A$504,"<"&EDATE(DATE($B$3,2,1),1))+SUMIFS('Expense Log'!$K$5:$K$504,'Expense Log'!$D$5:$D$504,"Floor Machines",'Expense Log'!$A$5:$A$504,">="&DATE($B$3,2,1),'Expense Log'!$A$5:$A$504,"<"&EDATE(DATE($B$3,2,1),1))+SUMIFS('Expense Log'!$K$5:$K$504,'Expense Log'!$D$5:$D$504,"Mops / Buckets",'Expense Log'!$A$5:$A$504,">="&DATE($B$3,2,1),'Expense Log'!$A$5:$A$504,"<"&EDATE(DATE($B$3,2,1),1))+SUMIFS('Expense Log'!$K$5:$K$504,'Expense Log'!$D$5:$D$504,"Extension Tools",'Expense Log'!$A$5:$A$504,">="&DATE($B$3,2,1),'Expense Log'!$A$5:$A$504,"<"&EDATE(DATE($B$3,2,1),1))+SUMIFS('Expense Log'!$K$5:$K$504,'Expense Log'!$D$5:$D$504,"Equipment Repairs",'Expense Log'!$A$5:$A$504,">="&DATE($B$3,2,1),'Expense Log'!$A$5:$A$504,"<"&EDATE(DATE($B$3,2,1),1))+SUMIFS('Expense Log'!$K$5:$K$504,'Expense Log'!$D$5:$D$504,"Replacement Parts",'Expense Log'!$A$5:$A$504,">="&DATE($B$3,2,1),'Expense Log'!$A$5:$A$504,"<"&EDATE(DATE($B$3,2,1),1))+SUMIFS('Expense Log'!$K$5:$K$504,'Expense Log'!$D$5:$D$504,"Equipment Rental",'Expense Log'!$A$5:$A$504,">="&DATE($B$3,2,1),'Expense Log'!$A$5:$A$504,"<"&EDATE(DATE($B$3,2,1),1)) | D8: =SUMIFS('Expense Log'!$K$5:$K$504,'Expense Log'!$D$5:$D$504,"Vacuums",'Expense Log'!$A$5:$A$504,">="&DATE($B$3,3,1),'Expense Log'!$A$5:$A$504,"<"&EDATE(DATE($B$3,3,1),1))+SUMIFS('Expense Log'!$K$5:$K$504,'Expense Log'!$D$5:$D$504,"Carpet Equipment",'Expense Log'!$A$5:$A$504,">="&DATE($B$3,3,1),'Expense Log'!$A$5:$A$504,"<"&EDATE(DATE($B$3,3,1),1))+SUMIFS('Expense Log'!$K$5:$K$504,'Expense Log'!$D$5:$D$504,"Floor Machines",'Expense Log'!$A$5:$A$504,">="&DATE($B$3,3,1),'Expense Log'!$A$5:$A$504,"<"&EDATE(DATE($B$3,3,1),1))+SUMIFS('Expense Log'!$K$5:$K$504,'Expense Log'!$D$5:$D$504,"Mops / Buckets",'Expense Log'!$A$5:$A$504,">="&DATE($B$3,3,1),'Expense Log'!$A$5:$A$504,"<"&EDATE(DATE($B$3,3,1),1))+SUMIFS('Expense Log'!$K$5:$K$504,'Expense Log'!$D$5:$D$504,"Extension Tools",'Expense Log'!$A$5:$A$504,">="&DATE($B$3,3,1),'Expense Log'!$A$5:$A$504,"<"&EDATE(DATE($B$3,3,1),1))+SUMIFS('Expense Log'!$K$5:$K$504,'Expense Log'!$D$5:$D$504,"Equipment Repairs",'Expense Log'!$A$5:$A$504,">="&DATE($B$3,3,1),'Expense Log'!$A$5:$A$504,"<"&EDATE(DATE($B$3,3,1),1))+SUMIFS('Expense Log'!$K$5:$K$504,'Expense Log'!$D$5:$D$504,"Replacement Parts",'Expense Log'!$A$5:$A$504,">="&DATE($B$3,3,1),'Expense Log'!$A$5:$A$504,"<"&EDATE(DATE($B$3,3,1),1))+SUMIFS('Expense Log'!$K$5:$K$504,'Expense Log'!$D$5:$D$504,"Equipment Rental",'Expense Log'!$A$5:$A$504,">="&DATE($B$3,3,1),'Expense Log'!$A$5:$A$504,"<"&EDATE(DATE($B$3,3,1),1)) | E8: =SUMIFS('Expense Log'!$K$5:$K$504,'Expense Log'!$D$5:$D$504,"Vacuums",'Expense Log'!$A$5:$A$504,">="&DATE($B$3,4,1),'Expense Log'!$A$5:$A$504,"<"&EDATE(DATE($B$3,4,1),1))+SUMIFS('Expense Log'!$K$5:$K$504,'Expense Log'!$D$5:$D$504,"Carpet Equipment",'Expense Log'!$A$5:$A$504,">="&DATE($B$3,4,1),'Expense Log'!$A$5:$A$504,"<"&EDATE(DATE($B$3,4,1),1))+SUMIFS('Expense Log'!$K$5:$K$504,'Expense Log'!$D$5:$D$504,"Floor Machines",'Expense Log'!$A$5:$A$504,">="&DATE($B$3,4,1),'Expense Log'!$A$5:$A$504,"<"&EDATE(DATE($B$3,4,1),1))+SUMIFS('Expense Log'!$K$5:$K$504,'Expense Log'!$D$5:$D$504,"Mops / Buckets",'Expense Log'!$A$5:$A$504,">="&DATE($B$3,4,1),'Expense Log'!$A$5:$A$504,"<"&EDATE(DATE($B$3,4,1),1))+SUMIFS('Expense Log'!$K$5:$K$504,'Expense Log'!$D$5:$D$504,"Extension Tools",'Expense Log'!$A$5:$A$504,">="&DATE($B$3,4,1),'Expense Log'!$A$5:$A$504,"<"&EDATE(DATE($B$3,4,1),1))+SUMIFS('Expense Log'!$K$5:$K$504,'Expense Log'!$D$5:$D$504,"Equipment Repairs",'Expense Log'!$A$5:$A$504,">="&DATE($B$3,4,1),'Expense Log'!$A$5:$A$504,"<"&EDATE(DATE($B$3,4,1),1))+SUMIFS('Expense Log'!$K$5:$K$504,'Expense Log'!$D$5:$D$504,"Replacement Parts",'Expense Log'!$A$5:$A$504,">="&DATE($B$3,4,1),'Expense Log'!$A$5:$A$504,"<"&EDATE(DATE($B$3,4,1),1))+SUMIFS('Expense Log'!$K$5:$K$504,'Expense Log'!$D$5:$D$504,"Equipment Rental",'Expense Log'!$A$5:$A$504,">="&DATE($B$3,4,1),'Expense Log'!$A$5:$A$504,"<"&EDATE(DATE($B$3,4,1),1)) | F8: =SUMIFS('Expense Log'!$K$5:$K$504,'Expense Log'!$D$5:$D$504,"Vacuums",'Expense Log'!$A$5:$A$504,">="&DATE($B$3,5,1),'Expense Log'!$A$5:$A$504,"<"&EDATE(DATE($B$3,5,1),1))+SUMIFS('Expense Log'!$K$5:$K$504,'Expense Log'!$D$5:$D$504,"Carpet Equipment",'Expense Log'!$A$5:$A$504,">="&DATE($B$3,5,1),'Expense Log'!$A$5:$A$504,"<"&EDATE(DATE($B$3,5,1),1))+SUMIFS('Expense Log'!$K$5:$K$504,'Expense Log'!$D$5:$D$504,"Floor Machines",'Expense Log'!$A$5:$A$504,">="&DATE($B$3,5,1),'Expense Log'!$A$5:$A$504,"<"&EDATE(DATE($B$3,5,1),1))+SUMIFS('Expense Log'!$K$5:$K$504,'Expense Log'!$D$5:$D$504,"Mops / Buckets",'Expense Log'!$A$5:$A$504,">="&DATE($B$3,5,1),'Expense Log'!$A$5:$A$504,"<"&EDATE(DATE($B$3,5,1),1))+SUMIFS('Expense Log'!$K$5:$K$504,'Expense Log'!$D$5:$D$504,"Extension Tools",'Expense Log'!$A$5:$A$504,">="&DATE($B$3,5,1),'Expense Log'!$A$5:$A$504,"<"&EDATE(DATE($B$3,5,1),1))+SUMIFS('Expense Log'!$K$5:$K$504,'Expense Log'!$D$5:$D$504,"Equipment Repairs",'Expense Log'!$A$5:$A$504,">="&DATE($B$3,5,1),'Expense Log'!$A$5:$A$504,"<"&EDATE(DATE($B$3,5,1),1))+SUMIFS('Expense Log'!$K$5:$K$504,'Expense Log'!$D$5:$D$504,"Replacement Parts",'Expense Log'!$A$5:$A$504,">="&DATE($B$3,5,1),'Expense Log'!$A$5:$A$504,"<"&EDATE(DATE($B$3,5,1),1))+SUMIFS('Expense Log'!$K$5:$K$504,'Expense Log'!$D$5:$D$504,"Equipment Rental",'Expense Log'!$A$5:$A$504,">="&DATE($B$3,5,1),'Expense Log'!$A$5:$A$504,"<"&EDATE(DATE($B$3,5,1),1)) | G8: =SUMIFS('Expense Log'!$K$5:$K$504,'Expense Log'!$D$5:$D$504,"Vacuums",'Expense Log'!$A$5:$A$504,">="&DATE($B$3,6,1),'Expense Log'!$A$5:$A$504,"<"&EDATE(DATE($B$3,6,1),1))+SUMIFS('Expense Log'!$K$5:$K$504,'Expense Log'!$D$5:$D$504,"Carpet Equipment",'Expense Log'!$A$5:$A$504,">="&DATE($B$3,6,1),'Expense Log'!$A$5:$A$504,"<"&EDATE(DATE($B$3,6,1),1))+SUMIFS('Expense Log'!$K$5:$K$504,'Expense Log'!$D$5:$D$504,"Floor Machines",'Expense Log'!$A$5:$A$504,">="&DATE($B$3,6,1),'Expense Log'!$A$5:$A$504,"<"&EDATE(DATE($B$3,6,1),1))+SUMIFS('Expense Log'!$K$5:$K$504,'Expense Log'!$D$5:$D$504,"Mops / Buckets",'Expense Log'!$A$5:$A$504,">="&DATE($B$3,6,1),'Expense Log'!$A$5:$A$504,"<"&EDATE(DATE($B$3,6,1),1))+SUMIFS('Expense Log'!$K$5:$K$504,'Expense Log'!$D$5:$D$504,"Extension Tools",'Expense Log'!$A$5:$A$504,">="&DATE($B$3,6,1),'Expense Log'!$A$5:$A$504,"<"&EDATE(DATE($B$3,6,1),1))+SUMIFS('Expense Log'!$K$5:$K$504,'Expense Log'!$D$5:$D$504,"Equipment Repairs",'Expense Log'!$A$5:$A$504,">="&DATE($B$3,6,1),'Expense Log'!$A$5:$A$504,"<"&EDATE(DATE($B$3,6,1),1))+SUMIFS('Expense Log'!$K$5:$K$504,'Expense Log'!$D$5:$D$504,"Replacement Parts",'Expense Log'!$A$5:$A$504,">="&DATE($B$3,6,1),'Expense Log'!$A$5:$A$504,"<"&EDATE(DATE($B$3,6,1),1))+SUMIFS('Expense Log'!$K$5:$K$504,'Expense Log'!$D$5:$D$504,"Equipment Rental",'Expense Log'!$A$5:$A$504,">="&DATE($B$3,6,1),'Expense Log'!$A$5:$A$504,"<"&EDATE(DATE($B$3,6,1),1)) | H8: =SUMIFS('Expense Log'!$K$5:$K$504,'Expense Log'!$D$5:$D$504,"Vacuums",'Expense Log'!$A$5:$A$504,">="&DATE($B$3,7,1),'Expense Log'!$A$5:$A$504,"<"&EDATE(DATE($B$3,7,1),1))+SUMIFS('Expense Log'!$K$5:$K$504,'Expense Log'!$D$5:$D$504,"Carpet Equipment",'Expense Log'!$A$5:$A$504,">="&DATE($B$3,7,1),'Expense Log'!$A$5:$A$504,"<"&EDATE(DATE($B$3,7,1),1))+SUMIFS('Expense Log'!$K$5:$K$504,'Expense Log'!$D$5:$D$504,"Floor Machines",'Expense Log'!$A$5:$A$504,">="&DATE($B$3,7,1),'Expense Log'!$A$5:$A$504,"<"&EDATE(DATE($B$3,7,1),1))+SUMIFS('Expense Log'!$K$5:$K$504,'Expense Log'!$D$5:$D$504,"Mops / Buckets",'Expense Log'!$A$5:$A$504,">="&DATE($B$3,7,1),'Expense Log'!$A$5:$A$504,"<"&EDATE(DATE($B$3,7,1),1))+SUMIFS('Expense Log'!$K$5:$K$504,'Expense Log'!$D$5:$D$504,"Extension Tools",'Expense Log'!$A$5:$A$504,">="&DATE($B$3,7,1),'Expense Log'!$A$5:$A$504,"<"&EDATE(DATE($B$3,7,1),1))+SUMIFS('Expense Log'!$K$5:$K$504,'Expense Log'!$D$5:$D$504,"Equipment Repairs",'Expense Log'!$A$5:$A$504,">="&DATE($B$3,7,1),'Expense Log'!$A$5:$A$504,"<"&EDATE(DATE($B$3,7,1),1))+SUMIFS('Expense Log'!$K$5:$K$504,'Expense Log'!$D$5:$D$504,"Replacement Parts",'Expense Log'!$A$5:$A$504,">="&DATE($B$3,7,1),'Expense Log'!$A$5:$A$504,"<"&EDATE(DATE($B$3,7,1),1))+SUMIFS('Expense Log'!$K$5:$K$504,'Expense Log'!$D$5:$D$504,"Equipment Rental",'Expense Log'!$A$5:$A$504,">="&DATE($B$3,7,1),'Expense Log'!$A$5:$A$504,"<"&EDATE(DATE($B$3,7,1),1)) | I8: =SUMIFS('Expense Log'!$K$5:$K$504,'Expense Log'!$D$5:$D$504,"Vacuums",'Expense Log'!$A$5:$A$504,">="&DATE($B$3,8,1),'Expense Log'!$A$5:$A$504,"<"&EDATE(DATE($B$3,8,1),1))+SUMIFS('Expense Log'!$K$5:$K$504,'Expense Log'!$D$5:$D$504,"Carpet Equipment",'Expense Log'!$A$5:$A$504,">="&DATE($B$3,8,1),'Expense Log'!$A$5:$A$504,"<"&EDATE(DATE($B$3,8,1),1))+SUMIFS('Expense Log'!$K$5:$K$504,'Expense Log'!$D$5:$D$504,"Floor Machines",'Expense Log'!$A$5:$A$504,">="&DATE($B$3,8,1),'Expense Log'!$A$5:$A$504,"<"&EDATE(DATE($B$3,8,1),1))+SUMIFS('Expense Log'!$K$5:$K$504,'Expense Log'!$D$5:$D$504,"Mops / Buckets",'Expense Log'!$A$5:$A$504,">="&DATE($B$3,8,1),'Expense Log'!$A$5:$A$504,"<"&EDATE(DATE($B$3,8,1),1))+SUMIFS('Expense Log'!$K$5:$K$504,'Expense Log'!$D$5:$D$504,"Extension Tools",'Expense Log'!$A$5:$A$504,">="&DATE($B$3,8,1),'Expense Log'!$A$5:$A$504,"<"&EDATE(DATE($B$3,8,1),1))+SUMIFS('Expense Log'!$K$5:$K$504,'Expense Log'!$D$5:$D$504,"Equipment Repairs",'Expense Log'!$A$5:$A$504,">="&DATE($B$3,8,1),'Expense Log'!$A$5:$A$504,"<"&EDATE(DATE($B$3,8,1),1))+SUMIFS('Expense Log'!$K$5:$K$504,'Expense Log'!$D$5:$D$504,"Replacement Parts",'Expense Log'!$A$5:$A$504,">="&DATE($B$3,8,1),'Expense Log'!$A$5:$A$504,"<"&EDATE(DATE($B$3,8,1),1))+SUMIFS('Expense Log'!$K$5:$K$504,'Expense Log'!$D$5:$D$504,"Equipment Rental",'Expense Log'!$A$5:$A$504,">="&DATE($B$3,8,1),'Expense Log'!$A$5:$A$504,"<"&EDATE(DATE($B$3,8,1),1)) | J8: =SUMIFS('Expense Log'!$K$5:$K$504,'Expense Log'!$D$5:$D$504,"Vacuums",'Expense Log'!$A$5:$A$504,">="&DATE($B$3,9,1),'Expense Log'!$A$5:$A$504,"<"&EDATE(DATE($B$3,9,1),1))+SUMIFS('Expense Log'!$K$5:$K$504,'Expense Log'!$D$5:$D$504,"Carpet Equipment",'Expense Log'!$A$5:$A$504,">="&DATE($B$3,9,1),'Expense Log'!$A$5:$A$504,"<"&EDATE(DATE($B$3,9,1),1))+SUMIFS('Expense Log'!$K$5:$K$504,'Expense Log'!$D$5:$D$504,"Floor Machines",'Expense Log'!$A$5:$A$504,">="&DATE($B$3,9,1),'Expense Log'!$A$5:$A$504,"<"&EDATE(DATE($B$3,9,1),1))+SUMIFS('Expense Log'!$K$5:$K$504,'Expense Log'!$D$5:$D$504,"Mops / Buckets",'Expense Log'!$A$5:$A$504,">="&DATE($B$3,9,1),'Expense Log'!$A$5:$A$504,"<"&EDATE(DATE($B$3,9,1),1))+SUMIFS('Expense Log'!$K$5:$K$504,'Expense Log'!$D$5:$D$504,"Extension Tools",'Expense Log'!$A$5:$A$504,">="&DATE($B$3,9,1),'Expense Log'!$A$5:$A$504,"<"&EDATE(DATE($B$3,9,1),1))+SUMIFS('Expense Log'!$K$5:$K$504,'Expense Log'!$D$5:$D$504,"Equipment Repairs",'Expense Log'!$A$5:$A$504,">="&DATE($B$3,9,1),'Expense Log'!$A$5:$A$504,"<"&EDATE(DATE($B$3,9,1),1))+SUMIFS('Expense Log'!$K$5:$K$504,'Expense Log'!$D$5:$D$504,"Replacement Parts",'Expense Log'!$A$5:$A$504,">="&DATE($B$3,9,1),'Expense Log'!$A$5:$A$504,"<"&EDATE(DATE($B$3,9,1),1))+SUMIFS('Expense Log'!$K$5:$K$504,'Expense Log'!$D$5:$D$504,"Equipment Rental",'Expense Log'!$A$5:$A$504,">="&DATE($B$3,9,1),'Expense Log'!$A$5:$A$504,"<"&EDATE(DATE($B$3,9,1),1)) | K8: =SUMIFS('Expense Log'!$K$5:$K$504,'Expense Log'!$D$5:$D$504,"Vacuums",'Expense Log'!$A$5:$A$504,">="&DATE($B$3,10,1),'Expense Log'!$A$5:$A$504,"<"&EDATE(DATE($B$3,10,1),1))+SUMIFS('Expense Log'!$K$5:$K$504,'Expense Log'!$D$5:$D$504,"Carpet Equipment",'Expense Log'!$A$5:$A$504,">="&DATE($B$3,10,1),'Expense Log'!$A$5:$A$504,"<"&EDATE(DATE($B$3,10,1),1))+SUMIFS('Expense Log'!$K$5:$K$504,'Expense Log'!$D$5:$D$504,"Floor Machines",'Expense Log'!$A$5:$A$504,">="&DATE($B$3,10,1),'Expense Log'!$A$5:$A$504,"<"&EDATE(DATE($B$3,10,1),1))+SUMIFS('Expense Log'!$K$5:$K$504,'Expense Log'!$D$5:$D$504,"Mops / Buckets",'Expense Log'!$A$5:$A$504,">="&DATE($B$3,10,1),'Expense Log'!$A$5:$A$504,"<"&EDATE(DATE($B$3,10,1),1))+SUMIFS('Expense Log'!$K$5:$K$504,'Expense Log'!$D$5:$D$504,"Extension Tools",'Expense Log'!$A$5:$A$504,">="&DATE($B$3,10,1),'Expense Log'!$A$5:$A$504,"<"&EDATE(DATE($B$3,10,1),1))+SUMIFS('Expense Log'!$K$5:$K$504,'Expense Log'!$D$5:$D$504,"Equipment Repairs",'Expense Log'!$A$5:$A$504,">="&DATE($B$3,10,1),'Expense Log'!$A$5:$A$504,"<"&EDATE(DATE($B$3,10,1),1))+SUMIFS('Expense Log'!$K$5:$K$504,'Expense Log'!$D$5:$D$504,"Replacement Parts",'Expense Log'!$A$5:$A$504,">="&DATE($B$3,10,1),'Expense Log'!$A$5:$A$504,"<"&EDATE(DATE($B$3,10,1),1))+SUMIFS('Expense Log'!$K$5:$K$504,'Expense Log'!$D$5:$D$504,"Equipment Rental",'Expense Log'!$A$5:$A$504,">="&DATE($B$3,10,1),'Expense Log'!$A$5:$A$504,"<"&EDATE(DATE($B$3,10,1),1)) | L8: =SUMIFS('Expense Log'!$K$5:$K$504,'Expense Log'!$D$5:$D$504,"Vacuums",'Expense Log'!$A$5:$A$504,">="&DATE($B$3,11,1),'Expense Log'!$A$5:$A$504,"<"&EDATE(DATE($B$3,11,1),1))+SUMIFS('Expense Log'!$K$5:$K$504,'Expense Log'!$D$5:$D$504,"Carpet Equipment",'Expense Log'!$A$5:$A$504,">="&DATE($B$3,11,1),'Expense Log'!$A$5:$A$504,"<"&EDATE(DATE($B$3,11,1),1))+SUMIFS('Expense Log'!$K$5:$K$504,'Expense Log'!$D$5:$D$504,"Floor Machines",'Expense Log'!$A$5:$A$504,">="&DATE($B$3,11,1),'Expense Log'!$A$5:$A$504,"<"&EDATE(DATE($B$3,11,1),1))+SUMIFS('Expense Log'!$K$5:$K$504,'Expense Log'!$D$5:$D$504,"Mops / Buckets",'Expense Log'!$A$5:$A$504,">="&DATE($B$3,11,1),'Expense Log'!$A$5:$A$504,"<"&EDATE(DATE($B$3,11,1),1))+SUMIFS('Expense Log'!$K$5:$K$504,'Expense Log'!$D$5:$D$504,"Extension Tools",'Expense Log'!$A$5:$A$504,">="&DATE($B$3,11,1),'Expense Log'!$A$5:$A$504,"<"&EDATE(DATE($B$3,11,1),1))+SUMIFS('Expense Log'!$K$5:$K$504,'Expense Log'!$D$5:$D$504,"Equipment Repairs",'Expense Log'!$A$5:$A$504,">="&DATE($B$3,11,1),'Expense Log'!$A$5:$A$504,"<"&EDATE(DATE($B$3,11,1),1))+SUMIFS('Expense Log'!$K$5:$K$504,'Expense Log'!$D$5:$D$504,"Replacement Parts",'Expense Log'!$A$5:$A$504,">="&DATE($B$3,11,1),'Expense Log'!$A$5:$A$504,"<"&EDATE(DATE($B$3,11,1),1))+SUMIFS('Expense Log'!$K$5:$K$504,'Expense Log'!$D$5:$D$504,"Equipment Rental",'Expense Log'!$A$5:$A$504,">="&DATE($B$3,11,1),'Expense Log'!$A$5:$A$504,"<"&EDATE(DATE($B$3,11,1),1)) | M8: =SUMIFS('Expense Log'!$K$5:$K$504,'Expense Log'!$D$5:$D$504,"Vacuums",'Expense Log'!$A$5:$A$504,">="&DATE($B$3,12,1),'Expense Log'!$A$5:$A$504,"<"&EDATE(DATE($B$3,12,1),1))+SUMIFS('Expense Log'!$K$5:$K$504,'Expense Log'!$D$5:$D$504,"Carpet Equipment",'Expense Log'!$A$5:$A$504,">="&DATE($B$3,12,1),'Expense Log'!$A$5:$A$504,"<"&EDATE(DATE($B$3,12,1),1))+SUMIFS('Expense Log'!$K$5:$K$504,'Expense Log'!$D$5:$D$504,"Floor Machines",'Expense Log'!$A$5:$A$504,">="&DATE($B$3,12,1),'Expense Log'!$A$5:$A$504,"<"&EDATE(DATE($B$3,12,1),1))+SUMIFS('Expense Log'!$K$5:$K$504,'Expense Log'!$D$5:$D$504,"Mops / Buckets",'Expense Log'!$A$5:$A$504,">="&DATE($B$3,12,1),'Expense Log'!$A$5:$A$504,"<"&EDATE(DATE($B$3,12,1),1))+SUMIFS('Expense Log'!$K$5:$K$504,'Expense Log'!$D$5:$D$504,"Extension Tools",'Expense Log'!$A$5:$A$504,">="&DATE($B$3,12,1),'Expense Log'!$A$5:$A$504,"<"&EDATE(DATE($B$3,12,1),1))+SUMIFS('Expense Log'!$K$5:$K$504,'Expense Log'!$D$5:$D$504,"Equipment Repairs",'Expense Log'!$A$5:$A$504,">="&DATE($B$3,12,1),'Expense Log'!$A$5:$A$504,"<"&EDATE(DATE($B$3,12,1),1))+SUMIFS('Expense Log'!$K$5:$K$504,'Expense Log'!$D$5:$D$504,"Replacement Parts",'Expense Log'!$A$5:$A$504,">="&DATE($B$3,12,1),'Expense Log'!$A$5:$A$504,"<"&EDATE(DATE($B$3,12,1),1))+SUMIFS('Expense Log'!$K$5:$K$504,'Expense Log'!$D$5:$D$504,"Equipment Rental",'Expense Log'!$A$5:$A$504,">="&DATE($B$3,12,1),'Expense Log'!$A$5:$A$504,"<"&EDATE(DATE($B$3,12,1),1)) | N8: =SUM(B8:M8)
