Workbook

Sheet Employee Scorecards
A1: Employee Scorecards
A2: One row per employee. Scores are 0-100 and weighted using Setup & Targets.
A4: Employee ID | B4: Employee Name | C4: Role | D4: Status | E4: Start Date | F4: Supervisor | G4: Review Date | H4: Quality | I4: Reliability | J4: Productivity | K4: Customer Service | L4: Safety | M4: Teamwork | N4: Overall Score | O4: Performance Band | P4: Quality Trend | Q4: Training Due? | R4: Coaching Follow-Up? | S4: Next Review | T4: Primary Team | U4: Manager Notes
A5: E001 | B5: Alex | C5: Cleaner | D5: Active | E5: 46037 | F5: Supervisor A | G5: 46265 | H5: 96 | I5: 98 | J5: 90 | K5: 94 | L5: 98 | M5: 92 | N5: =IF(COUNTA(H5:M5)=0,"",SUMPRODUCT(H5:M5,'Setup & Targets'!$B$6:$B$11)/100) -> #VALUE! | O5: =IF(N5="","",IF(N5>='Setup & Targets'!$B$15,"Strong",IF(N5>='Setup & Targets'!$B$16,"Meets Standard",IF(N5>='Setup & Targets'!$B$17,"Developing","Review Required")))) -> #VALUE! | P5: Improving | Q5: No | R5: No | S5: 46356 | T5: Team A | U5: Strong quality and reliability.
A6: E002 | B6: Jordan | C6: Cleaner | D6: Active | E6: 46082 | F6: Supervisor A | G6: 46265 | H6: 92 | I6: 95 | J6: 86 | K6: 90 | L6: 93 | M6: 90 | N6: =IF(COUNTA(H6:M6)=0,"",SUMPRODUCT(H6:M6,'Setup & Targets'!$B$6:$B$11)/100) -> #VALUE! | O6: =IF(N6="","",IF(N6>='Setup & Targets'!$B$15,"Strong",IF(N6>='Setup & Targets'!$B$16,"Meets Standard",IF(N6>='Setup & Targets'!$B$17,"Developing","Review Required")))) -> #VALUE! | P6: Improving | Q6: Yes | R6: Yes | S6: 46326 | T6: Team B | U6: Continue coaching on detail speed.
N7: =IF(COUNTA(H7:M7)=0,"",SUMPRODUCT(H7:M7,'Setup & Targets'!$B$6:$B$11)/100) | O7: =IF(N7="","",IF(N7>='Setup & Targets'!$B$15,"Strong",IF(N7>='Setup & Targets'!$B$16,"Meets Standard",IF(N7>='Setup & Targets'!$B$17,"Developing","Review Required"))))
N8: =IF(COUNTA(H8:M8)=0,"",SUMPRODUCT(H8:M8,'Setup & Targets'!$B$6:$B$11)/100) | O8: =IF(N8="","",IF(N8>='Setup & Targets'!$B$15,"Strong",IF(N8>='Setup & Targets'!$B$16,"Meets Standard",IF(N8>='Setup & Targets'!$B$17,"Developing","Review Required"))))
N9: =IF(COUNTA(H9:M9)=0,"",SUMPRODUCT(H9:M9,'Setup & Targets'!$B$6:$B$11)/100) | O9: =IF(N9="","",IF(N9>='Setup & Targets'!$B$15,"Strong",IF(N9>='Setup & Targets'!$B$16,"Meets Standard",IF(N9>='Setup & Targets'!$B$17,"Developing","Review Required"))))
N10: =IF(COUNTA(H10:M10)=0,"",SUMPRODUCT(H10:M10,'Setup & Targets'!$B$6:$B$11)/100) | O10: =IF(N10="","",IF(N10>='Setup & Targets'!$B$15,"Strong",IF(N10>='Setup & Targets'!$B$16,"Meets Standard",IF(N10>='Setup & Targets'!$B$17,"Developing","Review Required"))))
N11: =IF(COUNTA(H11:M11)=0,"",SUMPRODUCT(H11:M11,'Setup & Targets'!$B$6:$B$11)/100) | O11: =IF(N11="","",IF(N11>='Setup & Targets'!$B$15,"Strong",IF(N11>='Setup & Targets'!$B$16,"Meets Standard",IF(N11>='Setup & Targets'!$B$17,"Developing","Review Required"))))
N12: =IF(COUNTA(H12:M12)=0,"",SUMPRODUCT(H12:M12,'Setup & Targets'!$B$6:$B$11)/100) | O12: =IF(N12="","",IF(N12>='Setup & Targets'!$B$15,"Strong",IF(N12>='Setup & Targets'!$B$16,"Meets Standard",IF(N12>='Setup & Targets'!$B$17,"Developing","Review Required"))))
N13: =IF(COUNTA(H13:M13)=0,"",SUMPRODUCT(H13:M13,'Setup & Targets'!$B$6:$B$11)/100) | O13: =IF(N13="","",IF(N13>='Setup & Targets'!$B$15,"Strong",IF(N13>='Setup & Targets'!$B$16,"Meets Standard",IF(N13>='Setup & Targets'!$B$17,"Developing","Review Required"))))
N14: =IF(COUNTA(H14:M14)=0,"",SUMPRODUCT(H14:M14,'Setup & Targets'!$B$6:$B$11)/100) | O14: =IF(N14="","",IF(N14>='Setup & Targets'!$B$15,"Strong",IF(N14>='Setup & Targets'!$B$16,"Meets Standard",IF(N14>='Setup & Targets'!$B$17,"Developing","Review Required"))))
N15: =IF(COUNTA(H15:M15)=0,"",SUMPRODUCT(H15:M15,'Setup & Targets'!$B$6:$B$11)/100) | O15: =IF(N15="","",IF(N15>='Setup & Targets'!$B$15,"Strong",IF(N15>='Setup & Targets'!$B$16,"Meets Standard",IF(N15>='Setup & Targets'!$B$17,"Developing","Review Required"))))
N16: =IF(COUNTA(H16:M16)=0,"",SUMPRODUCT(H16:M16,'Setup & Targets'!$B$6:$B$11)/100) | O16: =IF(N16="","",IF(N16>='Setup & Targets'!$B$15,"Strong",IF(N16>='Setup & Targets'!$B$16,"Meets Standard",IF(N16>='Setup & Targets'!$B$17,"Developing","Review Required"))))
N17: =IF(COUNTA(H17:M17)=0,"",SUMPRODUCT(H17:M17,'Setup & Targets'!$B$6:$B$11)/100) | O17: =IF(N17="","",IF(N17>='Setup & Targets'!$B$15,"Strong",IF(N17>='Setup & Targets'!$B$16,"Meets Standard",IF(N17>='Setup & Targets'!$B$17,"Developing","Review Required"))))
N18: =IF(COUNTA(H18:M18)=0,"",SUMPRODUCT(H18:M18,'Setup & Targets'!$B$6:$B$11)/100) | O18: =IF(N18="","",IF(N18>='Setup & Targets'!$B$15,"Strong",IF(N18>='Setup & Targets'!$B$16,"Meets Standard",IF(N18>='Setup & Targets'!$B$17,"Developing","Review Required"))))
... N204: =IF(COUNTA(H204:M204)=0,"",SUMPRODUCT(H204:M204,'Setup & Targets'!$B$6:$B$11)/100) | O204: =IF(N204="","",IF(N204>='Setup & Targets'!$B$15,"Strong",IF(N204>='Setup & Targets'!$B$16,"Meets Standard",IF(N204>='Setup & Targets'!$B$17,"Developing","Review Required"))))

Sheet Monthly Performance
A1: Monthly Performance
A2: Enter monthly employee metrics. Calculated columns support trend analysis and the team dashboard.
A4: Month | B4: Employee ID | C4: Employee Name | D4: Jobs Completed | E4: Inspections | F4: Avg Quality % | G4: Recleans | H4: Complaints | I4: Scheduled Shifts | J4: Unscheduled Absences | K4: Late Arrivals | L4: No-Shows | M4: Job Labor Hrs | N4: Revenue Supported | O4: Estimated Hrs | P4: Actual Hrs | Q4: Training Hrs | R4: Customer Compliments | S4: Safety Incidents | T4: Procedure Exceptions | U4: Reliability Rate | V4: Reclean Rate | W4: Complaint Rate | X4: Revenue / Labor Hr
A5: 46204 | B5: E001 | C5: Alex | D5: 42 | E5: 5 | F5: 0.96 | G5: 1 | H5: 0 | I5: 20 | J5: 0 | K5: 1 | L5: 0 | M5: 68 | N5: 4200 | O5: 66 | P5: 68 | Q5: 2 | R5: 3 | S5: 0 | T5: 0 | U5: =IF(I5=0,"",MAX(0,1-(J5+K5+L5)/I5)) -> 0.95 | V5: =IF(D5=0,"",G5/D5) -> 0.023809524 | W5: =IF(D5=0,"",H5/D5) -> 0 | X5: =IF(M5=0,"",N5/M5) -> 61.764706
A6: 46235 | B6: E001 | C6: Alex | D6: 45 | E6: 6 | F6: 0.97 | G6: 0 | H6: 0 | I6: 21 | J6: 0 | K6: 0 | L6: 0 | M6: 71 | N6: 4550 | O6: 70 | P6: 71 | Q6: 1 | R6: 4 | S6: 0 | T6: 0 | U6: =IF(I6=0,"",MAX(0,1-(J6+K6+L6)/I6)) -> 1 | V6: =IF(D6=0,"",G6/D6) -> 0 | W6: =IF(D6=0,"",H6/D6) -> 0 | X6: =IF(M6=0,"",N6/M6) -> 64.084507
A7: 46204 | B7: E002 | C7: Jordan | D7: 38 | E7: 4 | F7: 0.91 | G7: 2 | H7: 1 | I7: 20 | J7: 1 | K7: 1 | L7: 0 | M7: 65 | N7: 3550 | O7: 62 | P7: 65 | Q7: 3 | R7: 1 | S7: 0 | T7: 1 | U7: =IF(I7=0,"",MAX(0,1-(J7+K7+L7)/I7)) -> 0.9 | V7: =IF(D7=0,"",G7/D7) -> 0.052631579 | W7: =IF(D7=0,"",H7/D7) -> 0.026315789 | X7: =IF(M7=0,"",N7/M7) -> 54.615385
A8: 46235 | B8: E002 | C8: Jordan | D8: 40 | E8: 5 | F8: 0.93 | G8: 1 | H8: 0 | I8: 20 | J8: 0 | K8: 1 | L8: 0 | M8: 64 | N8: 3720 | O8: 63 | P8: 64 | Q8: 2 | R8: 2 | S8: 0 | T8: 0 | U8: =IF(I8=0,"",MAX(0,1-(J8+K8+L8)/I8)) -> 0.95 | V8: =IF(D8=0,"",G8/D8) -> 0.025 | W8: =IF(D8=0,"",H8/D8) -> 0 | X8: =IF(M8=0,"",N8/M8) -> 58.125
U9: =IF(I9=0,"",MAX(0,1-(J9+K9+L9)/I9)) | V9: =IF(D9=0,"",G9/D9) | W9: =IF(D9=0,"",H9/D9) | X9: =IF(M9=0,"",N9/M9)
U10: =IF(I10=0,"",MAX(0,1-(J10+K10+L10)/I10)) | V10: =IF(D10=0,"",G10/D10) | W10: =IF(D10=0,"",H10/D10) | X10: =IF(M10=0,"",N10/M10)
U11: =IF(I11=0,"",MAX(0,1-(J11+K11+L11)/I11)) | V11: =IF(D11=0,"",G11/D11) | W11: =IF(D11=0,"",H11/D11) | X11: =IF(M11=0,"",N11/M11)
U12: =IF(I12=0,"",MAX(0,1-(J12+K12+L12)/I12)) | V12: =IF(D12=0,"",G12/D12) | W12: =IF(D12=0,"",H12/D12) | X12: =IF(M12=0,"",N12/M12)
U13: =IF(I13=0,"",MAX(0,1-(J13+K13+L13)/I13)) | V13: =IF(D13=0,"",G13/D13) | W13: =IF(D13=0,"",H13/D13) | X13: =IF(M13=0,"",N13/M13)
U14: =IF(I14=0,"",MAX(0,1-(J14+K14+L14)/I14)) | V14: =IF(D14=0,"",G14/D14) | W14: =IF(D14=0,"",H14/D14) | X14: =IF(M14=0,"",N14/M14)
U15: =IF(I15=0,"",MAX(0,1-(J15+K15+L15)/I15)) | V15: =IF(D15=0,"",G15/D15) | W15: =IF(D15=0,"",H15/D15) | X15: =IF(M15=0,"",N15/M15)
U16: =IF(I16=0,"",MAX(0,1-(J16+K16+L16)/I16)) | V16: =IF(D16=0,"",G16/D16) | W16: =IF(D16=0,"",H16/D16) | X16: =IF(M16=0,"",N16/M16)
U17: =IF(I17=0,"",MAX(0,1-(J17+K17+L17)/I17)) | V17: =IF(D17=0,"",G17/D17) | W17: =IF(D17=0,"",H17/D17) | X17: =IF(M17=0,"",N17/M17)
U18: =IF(I18=0,"",MAX(0,1-(J18+K18+L18)/I18)) | V18: =IF(D18=0,"",G18/D18) | W18: =IF(D18=0,"",H18/D18) | X18: =IF(M18=0,"",N18/M18)
U19: =IF(I19=0,"",MAX(0,1-(J19+K19+L19)/I19)) | V19: =IF(D19=0,"",G19/D19) | W19: =IF(D19=0,"",H19/D19) | X19: =IF(M19=0,"",N19/M19)
U20: =IF(I20=0,"",MAX(0,1-(J20+K20+L20)/I20)) | V20: =IF(D20=0,"",G20/D20) | W20: =IF(D20=0,"",H20/D20) | X20: =IF(M20=0,"",N20/M20)
... U1004: =IF(I1004=0,"",MAX(0,1-(J1004+K1004+L1004)/I1004)) | V1004: =IF(D1004=0,"",G1004/D1004) | W1004: =IF(D1004=0,"",H1004/D1004) | X1004: =IF(M1004=0,"",N1004/M1004)

Sheet Quality & Reliability
A1: Quality & Reliability
A2: Detailed inspection, attendance, and service-quality observations.
A4: Date | B4: Employee ID | C4: Employee Name | D4: Type | E4: Job / Account | F4: Inspection Score | G4: Passed? | H4: Reclean? | I4: Complaint? | J4: Late? | K4: Unscheduled Absence? | L4: No-Show? | M4: Severity | N4: Issue Type | O4: Corrective Action | P4: Notes

Sheet Training & Coaching
A1: Training & Coaching
A2: Track skills, certifications, training, coaching actions, goals, and follow-up.
A4: Date | B4: Employee ID | C4: Employee Name | D4: Record Type | E4: Skill / Topic | F4: Skill Status | G4: Training Hrs | H4: Trainer / Coach | I4: Observation | J4: Action / Goal | K4: Support Needed | L4: Follow-Up Date | M4: Status | N4: Result | O4: Notes

Sheet Team Dashboard
A1: Team Performance Dashboard
A2: High-level workforce view. Metrics are derived from Employee Scorecards and Monthly Performance.
A4: TEAM SNAPSHOT
A5: Active Employees | B5: =COUNTIF('Employee Scorecards'!$D$5:$D$204,"Active") -> 2 | E5: Employees in Training | F5: =COUNTIF('Employee Scorecards'!$D$5:$D$204,"Training") -> 0
A7: Reviews Due (next 30 days) | B7: =COUNTIFS('Employee Scorecards'!$S$5:$S$204,">="&TODAY(),'Employee Scorecards'!$S$5:$S$204,"<="&TODAY()+30) -> 0 | E7: Training Due | F7: =COUNTIF('Employee Scorecards'!$Q$5:$Q$204,"Yes") -> 1
A9: Coaching Follow-Up | B9: =COUNTIF('Employee Scorecards'!$R$5:$R$204,"Yes") -> 1 | E9: Strong Performers | F9: =COUNTIF('Employee Scorecards'!$O$5:$O$204,"Strong") -> 0
A11: Developing / Review | B11: =COUNTIF('Employee Scorecards'!$O$5:$O$204,"Developing")+COUNTIF('Employee Scorecards'!$O$5:$O$204,"Review Required") -> 0
A13: CURRENT MONTH PERFORMANCE
A14: Latest Month | B14: =IFERROR(MAX('Monthly Performance'!$A$5:$A$1004),"") -> 46235
A16: Avg Quality | B16: =IF(B14="","",AVERAGEIFS('Monthly Performance'!$F$5:$F$1004,'Monthly Performance'!$A$5:$A$1004,B14)) -> 0.95 | E16: Avg Reliability | F16: =IF(B14="","",AVERAGEIFS('Monthly Performance'!$U$5:$U$1004,'Monthly Performance'!$A$5:$A$1004,B14)) -> 0.975 | I16: Team Reclean Rate | J16: =IF(B14="","",SUMIFS('Monthly Performance'!$G$5:$G$1004,'Monthly Performance'!$A$5:$A$1004,B14)/MAX(1,SUMIFS('Monthly Performance'!$D$5:$D$1004,'Monthly Performance'!$A$5:$A$1004,B14))) -> 0.011764706
A18: Complaint Rate | B18: =IF(B14="","",SUMIFS('Monthly Performance'!$H$5:$H$1004,'Monthly Performance'!$A$5:$A$1004,B14)/MAX(1,SUMIFS('Monthly Performance'!$D$5:$D$1004,'Monthly Performance'!$A$5:$A$1004,B14))) -> 0 | E18: Revenue / Labor Hr | F18: =IF(B14="","",SUMIFS('Monthly Performance'!$N$5:$N$1004,'Monthly Performance'!$A$5:$A$1004,B14)/MAX(1,SUMIFS('Monthly Performance'!$M$5:$M$1004,'Monthly Performance'!$A$5:$A$1004,B14))) -> 61.259259 | I18: Training Hours | J18: =IF(B14="","",SUMIFS('Monthly Performance'!$Q$5:$Q$1004,'Monthly Performance'!$A$5:$A$1004,B14)) -> 3
A22: PERFORMANCE DISTRIBUTION
A23: Band | B23: Employees
A24: Strong | B24: =COUNTIF('Employee Scorecards'!$O$5:$O$204,A24) -> 0
A25: Meets Standard | B25: =COUNTIF('Employee Scorecards'!$O$5:$O$204,A25) -> 0
A26: Developing | B26: =COUNTIF('Employee Scorecards'!$O$5:$O$204,A26) -> 0
A27: Review Required | B27: =COUNTIF('Employee Scorecards'!$O$5:$O$204,A27) -> 0
A29: 12-MONTH TEAM TREND
A30: Month | B30: Avg Quality | C30: Avg Reliability | D30: Reclean % | E30: Revenue / Labor Hr
A31: =IF($B$14="","",EDATE($B$14,-11)) -> 45901 | B31: =IF(A31="","",IFERROR(AVERAGEIFS('Monthly Performance'!$F$5:$F$1004,'Monthly Performance'!$A$5:$A$1004,A31),0)) -> 0 | C31: =IF(A31="","",IFERROR(AVERAGEIFS('Monthly Performance'!$U$5:$U$1004,'Monthly Performance'!$A$5:$A$1004,A31),0)) -> 0 | D31: =IF(A31="","",SUMIFS('Monthly Performance'!$G$5:$G$1004,'Monthly Performance'!$A$5:$A$1004,A31)/MAX(1,SUMIFS('Monthly Performance'!$D$5:$D$1004,'Monthly Performance'!$A$5:$A$1004,A31))) -> 0 | E31: =IF(A31="","",SUMIFS('Monthly Performance'!$N$5:$N$1004,'Monthly Performance'!$A$5:$A$1004,A31)/MAX(1,SUMIFS('Monthly Performance'!$M$5:$M$1004,'Monthly Performance'!$A$5:$A$1004,A31))) -> 0
A32: =IF($B$14="","",EDATE($B$14,-10)) -> 45931 | B32: =IF(A32="","",IFERROR(AVERAGEIFS('Monthly Performance'!$F$5:$F$1004,'Monthly Performance'!$A$5:$A$1004,A32),0)) -> 0 | C32: =IF(A32="","",IFERROR(AVERAGEIFS('Monthly Performance'!$U$5:$U$1004,'Monthly Performance'!$A$5:$A$1004,A32),0)) -> 0 | D32: =IF(A32="","",SUMIFS('Monthly Performance'!$G$5:$G$1004,'Monthly Performance'!$A$5:$A$1004,A32)/MAX(1,SUMIFS('Monthly Performance'!$D$5:$D$1004,'Monthly Performance'!$A$5:$A$1004,A32))) -> 0 | E32: =IF(A32="","",SUMIFS('Monthly Performance'!$N$5:$N$1004,'Monthly Performance'!$A$5:$A$1004,A32)/MAX(1,SUMIFS('Monthly Performance'!$M$5:$M$1004,'Monthly Performance'!$A$5:$A$1004,A32))) -> 0
A33: =IF($B$14="","",EDATE($B$14,-9)) -> 45962 | B33: =IF(A33="","",IFERROR(AVERAGEIFS('Monthly Performance'!$F$5:$F$1004,'Monthly Performance'!$A$5:$A$1004,A33),0)) -> 0 | C33: =IF(A33="","",IFERROR(AVERAGEIFS('Monthly Performance'!$U$5:$U$1004,'Monthly Performance'!$A$5:$A$1004,A33),0)) -> 0 | D33: =IF(A33="","",SUMIFS('Monthly Performance'!$G$5:$G$1004,'Monthly Performance'!$A$5:$A$1004,A33)/MAX(1,SUMIFS('Monthly Performance'!$D$5:$D$1004,'Monthly Performance'!$A$5:$A$1004,A33))) -> 0 | E33: =IF(A33="","",SUMIFS('Monthly Performance'!$N$5:$N$1004,'Monthly Performance'!$A$5:$A$1004,A33)/MAX(1,SUMIFS('Monthly Performance'!$M$5:$M$1004,'Monthly Performance'!$A$5:$A$1004,A33))) -> 0
A34: =IF($B$14="","",EDATE($B$14,-8)) -> 45992 | B34: =IF(A34="","",IFERROR(AVERAGEIFS('Monthly Performance'!$F$5:$F$1004,'Monthly Performance'!$A$5:$A$1004,A34),0)) -> 0 | C34: =IF(A34="","",IFERROR(AVERAGEIFS('Monthly Performance'!$U$5:$U$1004,'Monthly Performance'!$A$5:$A$1004,A34),0)) -> 0 | D34: =IF(A34="","",SUMIFS('Monthly Performance'!$G$5:$G$1004,'Monthly Performance'!$A$5:$A$1004,A34)/MAX(1,SUMIFS('Monthly Performance'!$D$5:$D$1004,'Monthly Performance'!$A$5:$A$1004,A34))) -> 0 | E34: =IF(A34="","",SUMIFS('Monthly Performance'!$N$5:$N$1004,'Monthly Performance'!$A$5:$A$1004,A34)/MAX(1,SUMIFS('Monthly Performance'!$M$5:$M$1004,'Monthly Performance'!$A$5:$A$1004,A34))) -> 0
A35: =IF($B$14="","",EDATE($B$14,-7)) -> 46023 | B35: =IF(A35="","",IFERROR(AVERAGEIFS('Monthly Performance'!$F$5:$F$1004,'Monthly Performance'!$A$5:$A$1004,A35),0)) -> 0 | C35: =IF(A35="","",IFERROR(AVERAGEIFS('Monthly Performance'!$U$5:$U$1004,'Monthly Performance'!$A$5:$A$1004,A35),0)) -> 0 | D35: =IF(A35="","",SUMIFS('Monthly Performance'!$G$5:$G$1004,'Monthly Performance'!$A$5:$A$1004,A35)/MAX(1,SUMIFS('Monthly Performance'!$D$5:$D$1004,'Monthly Performance'!$A$5:$A$1004,A35))) -> 0 | E35: =IF(A35="","",SUMIFS('Monthly Performance'!$N$5:$N$1004,'Monthly Performance'!$A$5:$A$1004,A35)/MAX(1,SUMIFS('Monthly Performance'!$M$5:$M$1004,'Monthly Performance'!$A$5:$A$1004,A35))) -> 0
A36: =IF($B$14="","",EDATE($B$14,-6)) -> 46054 | B36: =IF(A36="","",IFERROR(AVERAGEIFS('Monthly Performance'!$F$5:$F$1004,'Monthly Performance'!$A$5:$A$1004,A36),0)) -> 0 | C36: =IF(A36="","",IFERROR(AVERAGEIFS('Monthly Performance'!$U$5:$U$1004,'Monthly Performance'!$A$5:$A$1004,A36),0)) -> 0 | D36: =IF(A36="","",SUMIFS('Monthly Performance'!$G$5:$G$1004,'Monthly Performance'!$A$5:$A$1004,A36)/MAX(1,SUMIFS('Monthly Performance'!$D$5:$D$1004,'Monthly Performance'!$A$5:$A$1004,A36))) -> 0 | E36: =IF(A36="","",SUMIFS('Monthly Performance'!$N$5:$N$1004,'Monthly Performance'!$A$5:$A$1004,A36)/MAX(1,SUMIFS('Monthly Performance'!$M$5:$M$1004,'Monthly Performance'!$A$5:$A$1004,A36))) -> 0
A37: =IF($B$14="","",EDATE($B$14,-5)) -> 46082 | B37: =IF(A37="","",IFERROR(AVERAGEIFS('Monthly Performance'!$F$5:$F$1004,'Monthly Performance'!$A$5:$A$1004,A37),0)) -> 0 | C37: =IF(A37="","",IFERROR(AVERAGEIFS('Monthly Performance'!$U$5:$U$1004,'Monthly Performance'!$A$5:$A$1004,A37),0)) -> 0 | D37: =IF(A37="","",SUMIFS('Monthly Performance'!$G$5:$G$1004,'Monthly Performance'!$A$5:$A$1004,A37)/MAX(1,SUMIFS('Monthly Performance'!$D$5:$D$1004,'Monthly Performance'!$A$5:$A$1004,A37))) -> 0 | E37: =IF(A37="","",SUMIFS('Monthly Performance'!$N$5:$N$1004,'Monthly Performance'!$A$5:$A$1004,A37)/MAX(1,SUMIFS('Monthly Performance'!$M$5:$M$1004,'Monthly Performance'!$A$5:$A$1004,A37))) -> 0
A38: =IF($B$14="","",EDATE($B$14,-4)) -> 46113 | B38: =IF(A38="","",IFERROR(AVERAGEIFS('Monthly Performance'!$F$5:$F$1004,'Monthly Performance'!$A$5:$A$1004,A38),0)) -> 0 | C38: =IF(A38="","",IFERROR(AVERAGEIFS('Monthly Performance'!$U$5:$U$1004,'Monthly Performance'!$A$5:$A$1004,A38),0)) -> 0 | D38: =IF(A38="","",SUMIFS('Monthly Performance'!$G$5:$G$1004,'Monthly Performance'!$A$5:$A$1004,A38)/MAX(1,SUMIFS('Monthly Performance'!$D$5:$D$1004,'Monthly Performance'!$A$5:$A$1004,A38))) -> 0 | E38: =IF(A38="","",SUMIFS('Monthly Performance'!$N$5:$N$1004,'Monthly Performance'!$A$5:$A$1004,A38)/MAX(1,SUMIFS('Monthly Performance'!$M$5:$M$1004,'Monthly Performance'!$A$5:$A$1004,A38))) -> 0
A39: =IF($B$14="","",EDATE($B$14,-3)) -> 46143 | B39: =IF(A39="","",IFERROR(AVERAGEIFS('Monthly Performance'!$F$5:$F$1004,'Monthly Performance'!$A$5:$A$1004,A39),0)) -> 0 | C39: =IF(A39="","",IFERROR(AVERAGEIFS('Monthly Performance'!$U$5:$U$1004,'Monthly Performance'!$A$5:$A$1004,A39),0)) -> 0 | D39: =IF(A39="","",SUMIFS('Monthly Performance'!$G$5:$G$1004,'Monthly Performance'!$A$5:$A$1004,A39)/MAX(1,SUMIFS('Monthly Performance'!$D$5:$D$1004,'Monthly Performance'!$A$5:$A$1004,A39))) -> 0 | E39: =IF(A39="","",SUMIFS('Monthly Performance'!$N$5:$N$1004,'Monthly Performance'!$A$5:$A$1004,A39)/MAX(1,SUMIFS('Monthly Performance'!$M$5:$M$1004,'Monthly Performance'!$A$5:$A$1004,A39))) -> 0
A40: =IF($B$14="","",EDATE($B$14,-2)) -> 46174 | B40: =IF(A40="","",IFERROR(AVERAGEIFS('Monthly Performance'!$F$5:$F$1004,'Monthly Performance'!$A$5:$A$1004,A40),0)) -> 0 | C40: =IF(A40="","",IFERROR(AVERAGEIFS('Monthly Performance'!$U$5:$U$1004,'Monthly Performance'!$A$5:$A$1004,A40),0)) -> 0 | D40: =IF(A40="","",SUMIFS('Monthly Performance'!$G$5:$G$1004,'Monthly Performance'!$A$5:$A$1004,A40)/MAX(1,SUMIFS('Monthly Performance'!$D$5:$D$1004,'Monthly Performance'!$A$5:$A$1004,A40))) -> 0 | E40: =IF(A40="","",SUMIFS('Monthly Performance'!$N$5:$N$1004,'Monthly Performance'!$A$5:$A$1004,A40)/MAX(1,SUMIFS('Monthly Performance'!$M$5:$M$1004,'Monthly Performance'!$A$5:$A$1004,A40))) -> 0
A41: =IF($B$14="","",EDATE($B$14,-1)) -> 46204 | B41: =IF(A41="","",IFERROR(AVERAGEIFS('Monthly Performance'!$F$5:$F$1004,'Monthly Performance'!$A$5:$A$1004,A41),0)) -> 0.935 | C41: =IF(A41="","",IFERROR(AVERAGEIFS('Monthly Performance'!$U$5:$U$1004,'Monthly Performance'!$A$5:$A$1004,A41),0)) -> 0.925 | D41: =IF(A41="","",SUMIFS('Monthly Performance'!$G$5:$G$1004,'Monthly Performance'!$A$5:$A$1004,A41)/MAX(1,SUMIFS('Monthly Performance'!$D$5:$D$1004,'Monthly Performance'!$A$5:$A$1004,A41))) -> 0.0375 | E41: =IF(A41="","",SUMIFS('Monthly Performance'!$N$5:$N$1004,'Monthly Performance'!$A$5:$A$1004,A41)/MAX(1,SUMIFS('Monthly Performance'!$M$5:$M$1004,'Monthly Performance'!$A$5:$A$1004,A41))) -> 58.270677
A42: =IF($B$14="","",EDATE($B$14,0)) -> 46235 | B42: =IF(A42="","",IFERROR(AVERAGEIFS('Monthly Performance'!$F$5:$F$1004,'Monthly Performance'!$A$5:$A$1004,A42),0)) -> 0.95 | C42: =IF(A42="","",IFERROR(AVERAGEIFS('Monthly Performance'!$U$5:$U$1004,'Monthly Performance'!$A$5:$A$1004,A42),0)) -> 0.975 | D42: =IF(A42="","",SUMIFS('Monthly Performance'!$G$5:$G$1004,'Monthly Performance'!$A$5:$A$1004,A42)/MAX(1,SUMIFS('Monthly Performance'!$D$5:$D$1004,'Monthly Performance'!$A$5:$A$1004,A42))) -> 0.011764706 | E42: =IF(A42="","",SUMIFS('Monthly Performance'!$N$5:$N$1004,'Monthly Performance'!$A$5:$A$1004,A42)/MAX(1,SUMIFS('Monthly Performance'!$M$5:$M$1004,'Monthly Performance'!$A$5:$A$1004,A42))) -> 61.259259

Sheet Setup & Targets
A1: Cleaning Employee Performance Tracker
A2: Editable scoring weights, targets, lists, and thresholds. Blue cells are user inputs.
A4: SCORECARD WEIGHTS
A5: Category | B5: Weight | C5: Weight Check
A6: Quality | B6: 0.3
A7: Reliability | B7: 0.2
A8: Productivity | B8: 0.15
A9: Customer Service | B9: 0.15
A10: Safety & Procedures | B10: 0.1
A11: Teamwork & Communication | B11: 0.1
A12: Total | B12: =SUM(B6:B11) -> 1 | C12: =IF(ABS(B12-1)<0.0001,"OK","CHECK") -> OK
A14: PERFORMANCE THRESHOLDS
A15: Band | B15: Minimum Overall Score | C15: Meaning
A16: Strong | B16: 0.85 | C16: Consistently meets or exceeds standards
A17: Meets Standard | B17: 0.7 | C17: Reliable performance within expectations
A18: Developing | B18: 0.55 | C18: Specific areas require coaching or training
A19: Review Required | B19: 0 | C19: Material or repeated issues require attention
A21: TARGETS
A22: Metric | B22: Target | C22: Direction
A23: Quality Score | B23: 0.95 | C23: Higher
A24: Reliability Rate | B24: 0.97 | C24: Higher
A25: Reclean Rate | B25: 0.02 | C25: Lower
A26: Complaint Rate | B26: 0.02 | C26: Lower
A27: Revenue / Labor Hour | B27: 55 | C27: Higher
A28: Training Completion | B28: 1 | C28: Higher
A30: EDITABLE LISTS
A31: Roles | B31: Status | C31: Skill Status | D31: Coaching Status | E31: Review Result | F31: Trend | G31: Follow-Up Status | H31: Supervisors
A32: Cleaner | B32: Active | C32: Not Trained | D32: Open | E32: Strong | F32: Improving | G32: Open | H32: Manager
A33: Team Lead | B33: Training | C33: Training | D33: In Progress | E33: Meets Standard | F33: Stable | G33: Due Soon | H33: Supervisor A
A34: Supervisor | B34: Leave | C34: Supervised | D34: Complete | E34: Developing | F34: Declining | G34: Overdue | H34: Supervisor B
A35: Trainer | B35: Inactive | C35: Certified / Approved | D35: Closed | E35: Review Required | G35: Complete
A36: Other
