Workbook

Sheet Job Costing
A1: TidyOps Cleaning Job Costing — Detailed Job Analysis
A3: JOB INFORMATION
A4: Job Number | B4: JOB-1001
A5: Customer | B5: Example Customer
A6: Service Date | B6: 9/8/2026
A7: Service Type | B7: Standard Cleaning
A8: Service Frequency | B8: Every 2 Weeks
A10: JOB REVENUE
A11: Base Service Revenue | B11: 0
A12: Add-On Revenue | B12: 0
A13: Travel / Service Fees | B13: 0
A14: Other Revenue | B14: 0
A15: Discounts | B15: 0
A16: TOTAL JOB REVENUE | B16: =SUM(B11:B14)-B15 -> 0
A18: CLEANER LABOR
A19: Employee / Cleaner | B19: Hours | C19: Base Wage | D19: Loaded Cost / Hr. | E19: Labor Cost
A20: Cleaner 1 | B20: 0 | C20: 0 | D20: =C20*(1+'Setup & Instructions'!$B$4) -> 0 | E20: =B20*D20 -> 0
A21: Cleaner 2 | B21: 0 | C21: 0 | D21: =C21*(1+'Setup & Instructions'!$B$4) -> 0 | E21: =B21*D21 -> 0
A22: Cleaner 3 | B22: 0 | C22: 0 | D22: =C22*(1+'Setup & Instructions'!$B$4) -> 0 | E22: =B22*D22 -> 0
A23: Cleaner 4 | B23: 0 | C23: 0 | D23: =C23*(1+'Setup & Instructions'!$B$4) -> 0 | E23: =B23*D23 -> 0
A24: Total Labor Hours | B24: =SUM(B20:B23) -> 0 | D24: Total Direct Labor Cost | E24: =SUM(E20:E23) -> 0
A26: SUPPLIES & CONSUMABLES
A27: Cleaning Chemicals | B27: 0
A28: Disposable Supplies | B28: 0
A29: Trash Liners | B29: 0
A30: Laundry / Linens | B30: 0
A31: Guest Amenities | B31: 0
A32: Specialty Products | B32: 0
A33: Other Supplies | B33: 0
A34: Total Supplies Cost | B34: =SUM(B27:B33) -> 0
A36: TRAVEL COST
A37: Round-Trip Miles | B37: 0
A38: Mileage Cost Per Mile | B38: ='Setup & Instructions'!B5 -> 0.67
A39: Vehicle Cost | B39: =B37*B38 -> 0
A40: Paid Travel Labor | B40: 0
A41: Parking / Tolls | B41: 0
A42: Other Travel Cost | B42: 0
A43: TOTAL TRAVEL COST | B43: =SUM(B39:B42)+B38 -> 0.67
A45: OTHER DIRECT JOB COSTS
A46: Payment Processing | B46: =B16*'Setup & Instructions'!$B$6 -> 0
...

Sheet Job Log
A1: TidyOps Cleaning Job Costing — Job Log
A4: Job # | B4: Date | C4: Customer | D4: Service Type | E4: Frequency | F4: Revenue | G4: Labor Hrs | H4: Labor Cost | I4: Supplies | J4: Travel | K4: Other Direct | L4: Direct Cost | M4: Contribution Profit | N4: Contribution Margin | O4: Overhead | P4: Total Cost | Q4: Profit | R4: Profit Margin | S4: Revenue/Labor Hr | T4: Est. Labor Hrs | U4: Labor Variance | V4: Reclean Cost
A5: JOB-1001 | B5: 9/1/2026 | C5: Smith Residence | D5: Standard Cleaning | E5: Every 2 Weeks | F5: 220 | G5: 4 | H5: 88 | I5: 12 | J5: 10 | K5: 7 | L5: =SUM(H5:K5) -> 117 | M5: =F5-L5 -> 103 | N5: =IFERROR(M5/F5,0) -> 0.46818182 | O5: =G5*IFERROR('Setup & Instructions'!$B$7/'Setup & Instructions'!$B$8,0) -> 31.25 | P5: =L5+O5 -> 148.25 | Q5: =F5-P5 -> 71.75 | R5: =IFERROR(Q5/F5,0) -> 0.32613636 | S5: =IFERROR(F5/G5,0) -> 55 | T5: 4 | U5: =G5-T5 -> 0 | V5: 0
A6: JOB-1002 | B6: 9/2/2026 | C6: Oak Street Office | D6: Commercial Cleaning | E6: Weekly | F6: 480 | G6: 8 | H6: 184 | I6: 24 | J6: 18 | K6: 14 | L6: =SUM(H6:K6) -> 240 | M6: =F6-L6 -> 240 | N6: =IFERROR(M6/F6,0) -> 0.5 | O6: =G6*IFERROR('Setup & Instructions'!$B$7/'Setup & Instructions'!$B$8,0) -> 62.5 | P6: =L6+O6 -> 302.5 | Q6: =F6-P6 -> 177.5 | R6: =IFERROR(Q6/F6,0) -> 0.36979167 | S6: =IFERROR(F6/G6,0) -> 60 | T6: 7 | U6: =G6-T6 -> 1 | V6: 0
A7: JOB-1003 | B7: 9/3/2026 | C7: Lakeview Turnover | D7: Vacation Rental Turnover | E7: One-Time | F7: 310 | G7: 5.5 | H7: 132 | I7: 28 | J7: 12 | K7: 15 | L7: =SUM(H7:K7) -> 187 | M7: =F7-L7 -> 123 | N7: =IFERROR(M7/F7,0) -> 0.39677419 | O7: =G7*IFERROR('Setup & Instructions'!$B$7/'Setup & Instructions'!$B$8,0) -> 42.96875 | P7: =L7+O7 -> 229.96875 | Q7: =F7-P7 -> 80.03125 | R7: =IFERROR(Q7/F7,0) -> 0.25816532 | S7: =IFERROR(F7/G7,0) -> 56.363636 | T7: 4.5 | U7: =G7-T7 -> 1 | V7: 25
L8: =SUM(H8:K8) -> 0 | M8: =F8-L8 -> 0 | N8: =IFERROR(M8/F8,0) -> 0 | O8: =G8*IFERROR('Setup & Instructions'!$B$7/'Setup & Instructions'!$B$8,0) -> 0 | P8: =L8+O8 -> 0 | Q8: =F8-P8 -> 0 | R8: =IFERROR(Q8/F8,0) -> 0 | S8: =IFERROR(F8/G8,0) -> 0 | U8: =G8-T8 -> 0
L9: =SUM(H9:K9) -> 0 | M9: =F9-L9 -> 0 | N9: =IFERROR(M9/F9,0) -> 0 | O9: =G9*IFERROR('Setup & Instructions'!$B$7/'Setup & Instructions'!$B$8,0) -> 0 | P9: =L9+O9 -> 0 | Q9: =F9-P9 -> 0 | R9: =IFERROR(Q9/F9,0) -> 0 | S9: =IFERROR(F9/G9,0) -> 0 | U9: =G9-T9 -> 0
L10: =SUM(H10:K10) -> 0 | M10: =F10-L10 -> 0 | N10: =IFERROR(M10/F10,0) -> 0 | O10: =G10*IFERROR('Setup & Instructions'!$B$7/'Setup & Instructions'!$B$8,0) -> 0 | P10: =L10+O10 -> 0 | Q10: =F10-P10 -> 0 | R10: =IFERROR(Q10/F10,0) -> 0 | S10: =IFERROR(F10/G10,0) -> 0 | U10: =G10-T10 -> 0
L11: =SUM(H11:K11) -> 0 | M11: =F11-L11 -> 0 | N11: =IFERROR(M11/F11,0) -> 0 | O11: =G11*IFERROR('Setup & Instructions'!$B$7/'Setup & Instructions'!$B$8,0) -> 0 | P11: =L11+O11 -> 0 | Q11: =F11-P11 -> 0 | R11: =IFERROR(Q11/F11,0) -> 0 | S11: =IFERROR(F11/G11,0) -> 0 | U11: =G11-T11 -> 0
L12: =SUM(H12:K12) -> 0 | M12: =F12-L12 -> 0 | N12: =IFERROR(M12/F12,0) -> 0 | O12: =G12*IFERROR('Setup & Instructions'!$B$7/'Setup & Instructions'!$B$8,0) -> 0 | P12: =L12+O12 -> 0 | Q12: =F12-P12 -> 0 | R12: =IFERROR(Q12/F12,0) -> 0 | S12: =IFERROR(F12/G12,0) -> 0 | U12: =G12-T12 -> 0
L13: =SUM(H13:K13) -> 0 | M13: =F13-L13 -> 0 | N13: =IFERROR(M13/F13,0) -> 0 | O13: =G13*IFERROR('Setup & Instructions'!$B$7/'Setup & Instructions'!$B$8,0) -> 0 | P13: =L13+O13 -> 0 | Q13: =F13-P13 -> 0 | R13: =IFERROR(Q13/F13,0) -> 0 | S13: =IFERROR(F13/G13,0) -> 0 | U13: =G13-T13 -> 0
L14: =SUM(H14:K14) -> 0 | M14: =F14-L14 -> 0 | N14: =IFERROR(M14/F14,0) -> 0 | O14: =G14*IFERROR('Setup & Instructions'!$B$7/'Setup & Instructions'!$B$8,0) -> 0 | P14: =L14+O14 -> 0 | Q14: =F14-P14 -> 0 | R14: =IFERROR(Q14/F14,0) -> 0 | S14: =IFERROR(F14/G14,0) -> 0 | U14: =G14-T14 -> 0
L15: =SUM(H15:K15) -> 0 | M15: =F15-L15 -> 0 | N15: =IFERROR(M15/F15,0) -> 0 | O15: =G15*IFERROR('Setup & Instructions'!$B$7/'Setup & Instructions'!$B$8,0) -> 0 | P15: =L15+O15 -> 0 | Q15: =F15-P15 -> 0 | R15: =IFERROR(Q15/F15,0) -> 0 | S15: =IFERROR(F15/G15,0) -> 0 | U15: =G15-T15 -> 0
L16: =SUM(H16:K16) -> 0 | M16: =F16-L16 -> 0 | N16: =IFERROR(M16/F16,0) -> 0 | O16: =G16*IFERROR('Setup & Instructions'!$B$7/'Setup & Instructions'!$B$8,0) -> 0 | P16: =L16+O16 -> 0 | Q16: =F16-P16 -> 0 | R16: =IFERROR(Q16/F16,0) -> 0 | S16: =IFERROR(F16/G16,0) -> 0 | U16: =G16-T16 -> 0
L17: =SUM(H17:K17) -> 0 | M17: =F17-L17 -> 0 | N17: =IFERROR(M17/F17,0) -> 0 | O17: =G17*IFERROR('Setup & Instructions'!$B$7/'Setup & Instructions'!$B$8,0) -> 0 | P17: =L17+O17 -> 0 | Q17: =F17-P17 -> 0 | R17: =IFERROR(Q17/F17,0) -> 0 | S17: =IFERROR(F17/G17,0) -> 0 | U17: =G17-T17 -> 0
L18: =SUM(H18:K18) -> 0 | M18: =F18-L18 -> 0 | N18: =IFERROR(M18/F18,0) -> 0 | O18: =G18*IFERROR('Setup & Instructions'!$B$7/'Setup & Instructions'!$B$8,0) -> 0 | P18: =L18+O18 -> 0 | Q18: =F18-P18 -> 0 | R18: =IFERROR(Q18/F18,0) -> 0 | S18: =IFERROR(F18/G18,0) -> 0 | U18: =G18-T18 -> 0
L19: =SUM(H19:K19) -> 0 | M19: =F19-L19 -> 0 | N19: =IFERROR(M19/F19,0) -> 0 | O19: =G19*IFERROR('Setup & Instructions'!$B$7/'Setup & Instructions'!$B$8,0) -> 0 | P19: =L19+O19 -> 0 | Q19: =F19-P19 -> 0 | R19: =IFERROR(Q19/F19,0) -> 0 | S19: =IFERROR(F19/G19,0) -> 0 | U19: =G19-T19 -> 0
... L104: =SUM(H104:K104) -> 0 | M104: =F104-L104 -> 0 | N104: =IFERROR(M104/F104,0) -> 0 | O104: =G104*IFERROR('Setup & Instructions'!$B$7/'Setup & Instructions'!$B$8,0) -> 0 | P104: =L104+O104 -> 0 | Q104: =F104-P104 -> 0 | R104: =IFERROR(Q104/F104,0) -> 0 | S104: =IFERROR(F104/G104,0) -> 0 | U104: =G104-T104 -> 0

Sheet Customer Profitability
A1: Customer Profitability Summary
A4: Customer | B4: Jobs | C4: Revenue | D4: Labor Hrs | E4: Total Cost | F4: Profit | G4: Margin | H4: Rev/Labor Hr | I4: Reclean Cost | J4: Status
A5: Smith Residence | B5: =COUNTIF('Job Log'!$C$5:$C$104,A5) -> 1 | C5: =SUMIF('Job Log'!$C$5:$C$104,A5,'Job Log'!$F$5:$F$104) -> 220 | D5: =SUMIF('Job Log'!$C$5:$C$104,A5,'Job Log'!$G$5:$G$104) -> 4 | E5: =SUMIF('Job Log'!$C$5:$C$104,A5,'Job Log'!$P$5:$P$104) -> 148.25 | F5: =C5-E5 -> 71.75 | G5: =IFERROR(F5/C5,0) -> 0.32613636 | H5: =IFERROR(C5/D5,0) -> 55 | I5: =SUMIF('Job Log'!$C$5:$C$104,A5,'Job Log'!$V$5:$V$104) -> 0 | J5: =IF(G5<0,"LOSING MONEY",IF(G5>='Setup & Instructions'!$B$9,"MEETS TARGET",IF(G5>='Setup & Instructions'!$B$9-'Setup & Instructions'!$B$10,"NEAR TARGET","BELOW TARGET"))) -> MEETS TARGET
A6: Oak Street Office | B6: =COUNTIF('Job Log'!$C$5:$C$104,A6) -> 1 | C6: =SUMIF('Job Log'!$C$5:$C$104,A6,'Job Log'!$F$5:$F$104) -> 480 | D6: =SUMIF('Job Log'!$C$5:$C$104,A6,'Job Log'!$G$5:$G$104) -> 8 | E6: =SUMIF('Job Log'!$C$5:$C$104,A6,'Job Log'!$P$5:$P$104) -> 302.5 | F6: =C6-E6 -> 177.5 | G6: =IFERROR(F6/C6,0) -> 0.36979167 | H6: =IFERROR(C6/D6,0) -> 60 | I6: =SUMIF('Job Log'!$C$5:$C$104,A6,'Job Log'!$V$5:$V$104) -> 0 | J6: =IF(G6<0,"LOSING MONEY",IF(G6>='Setup & Instructions'!$B$9,"MEETS TARGET",IF(G6>='Setup & Instructions'!$B$9-'Setup & Instructions'!$B$10,"NEAR TARGET","BELOW TARGET"))) -> MEETS TARGET
A7: Lakeview Turnover | B7: =COUNTIF('Job Log'!$C$5:$C$104,A7) -> 1 | C7: =SUMIF('Job Log'!$C$5:$C$104,A7,'Job Log'!$F$5:$F$104) -> 310 | D7: =SUMIF('Job Log'!$C$5:$C$104,A7,'Job Log'!$G$5:$G$104) -> 5.5 | E7: =SUMIF('Job Log'!$C$5:$C$104,A7,'Job Log'!$P$5:$P$104) -> 229.96875 | F7: =C7-E7 -> 80.03125 | G7: =IFERROR(F7/C7,0) -> 0.25816532 | H7: =IFERROR(C7/D7,0) -> 56.363636 | I7: =SUMIF('Job Log'!$C$5:$C$104,A7,'Job Log'!$V$5:$V$104) -> 25 | J7: =IF(G7<0,"LOSING MONEY",IF(G7>='Setup & Instructions'!$B$9,"MEETS TARGET",IF(G7>='Setup & Instructions'!$B$9-'Setup & Instructions'!$B$10,"NEAR TARGET","BELOW TARGET"))) -> NEAR TARGET
A8: Customer 4 | B8: =COUNTIF('Job Log'!$C$5:$C$104,A8) -> 0 | C8: =SUMIF('Job Log'!$C$5:$C$104,A8,'Job Log'!$F$5:$F$104) -> 0 | D8: =SUMIF('Job Log'!$C$5:$C$104,A8,'Job Log'!$G$5:$G$104) -> 0 | E8: =SUMIF('Job Log'!$C$5:$C$104,A8,'Job Log'!$P$5:$P$104) -> 0 | F8: =C8-E8 -> 0 | G8: =IFERROR(F8/C8,0) -> 0 | H8: =IFERROR(C8/D8,0) -> 0 | I8: =SUMIF('Job Log'!$C$5:$C$104,A8,'Job Log'!$V$5:$V$104) -> 0 | J8: =IF(G8<0,"LOSING MONEY",IF(G8>='Setup & Instructions'!$B$9,"MEETS TARGET",IF(G8>='Setup & Instructions'!$B$9-'Setup & Instructions'!$B$10,"NEAR TARGET","BELOW TARGET"))) -> BELOW TARGET
A9: Customer 5 | B9: =COUNTIF('Job Log'!$C$5:$C$104,A9) -> 0 | C9: =SUMIF('Job Log'!$C$5:$C$104,A9,'Job Log'!$F$5:$F$104) -> 0 | D9: =SUMIF('Job Log'!$C$5:$C$104,A9,'Job Log'!$G$5:$G$104) -> 0 | E9: =SUMIF('Job Log'!$C$5:$C$104,A9,'Job Log'!$P$5:$P$104) -> 0 | F9: =C9-E9 -> 0 | G9: =IFERROR(F9/C9,0) -> 0 | H9: =IFERROR(C9/D9,0) -> 0 | I9: =SUMIF('Job Log'!$C$5:$C$104,A9,'Job Log'!$V$5:$V$104) -> 0 | J9: =IF(G9<0,"LOSING MONEY",IF(G9>='Setup & Instructions'!$B$9,"MEETS TARGET",IF(G9>='Setup & Instructions'!$B$9-'Setup & Instructions'!$B$10,"NEAR TARGET","BELOW TARGET"))) -> BELOW TARGET
A10: Customer 6 | B10: =COUNTIF('Job Log'!$C$5:$C$104,A10) -> 0 | C10: =SUMIF('Job Log'!$C$5:$C$104,A10,'Job Log'!$F$5:$F$104) -> 0 | D10: =SUMIF('Job Log'!$C$5:$C$104,A10,'Job Log'!$G$5:$G$104) -> 0 | E10: =SUMIF('Job Log'!$C$5:$C$104,A10,'Job Log'!$P$5:$P$104) -> 0 | F10: =C10-E10 -> 0 | G10: =IFERROR(F10/C10,0) -> 0 | H10: =IFERROR(C10/D10,0) -> 0 | I10: =SUMIF('Job Log'!$C$5:$C$104,A10,'Job Log'!$V$5:$V$104) -> 0 | J10: =IF(G10<0,"LOSING MONEY",IF(G10>='Setup & Instructions'!$B$9,"MEETS TARGET",IF(G10>='Setup & Instructions'!$B$9-'Setup & Instructions'!$B$10,"NEAR TARGET","BELOW TARGET"))) -> BELOW TARGET
A11: Customer 7 | B11: =COUNTIF('Job Log'!$C$5:$C$104,A11) -> 0 | C11: =SUMIF('Job Log'!$C$5:$C$104,A11,'Job Log'!$F$5:$F$104) -> 0 | D11: =SUMIF('Job Log'!$C$5:$C$104,A11,'Job Log'!$G$5:$G$104) -> 0 | E11: =SUMIF('Job Log'!$C$5:$C$104,A11,'Job Log'!$P$5:$P$104) -> 0 | F11: =C11-E11 -> 0 | G11: =IFERROR(F11/C11,0) -> 0 | H11: =IFERROR(C11/D11,0) -> 0 | I11: =SUMIF('Job Log'!$C$5:$C$104,A11,'Job Log'!$V$5:$V$104) -> 0 | J11: =IF(G11<0,"LOSING MONEY",IF(G11>='Setup & Instructions'!$B$9,"MEETS TARGET",IF(G11>='Setup & Instructions'!$B$9-'Setup & Instructions'!$B$10,"NEAR TARGET","BELOW TARGET"))) -> BELOW TARGET
A12: Customer 8 | B12: =COUNTIF('Job Log'!$C$5:$C$104,A12) -> 0 | C12: =SUMIF('Job Log'!$C$5:$C$104,A12,'Job Log'!$F$5:$F$104) -> 0 | D12: =SUMIF('Job Log'!$C$5:$C$104,A12,'Job Log'!$G$5:$G$104) -> 0 | E12: =SUMIF('Job Log'!$C$5:$C$104,A12,'Job Log'!$P$5:$P$104) -> 0 | F12: =C12-E12 -> 0 | G12: =IFERROR(F12/C12,0) -> 0 | H12: =IFERROR(C12/D12,0) -> 0 | I12: =SUMIF('Job Log'!$C$5:$C$104,A12,'Job Log'!$V$5:$V$104) -> 0 | J12: =IF(G12<0,"LOSING MONEY",IF(G12>='Setup & Instructions'!$B$9,"MEETS TARGET",IF(G12>='Setup & Instructions'!$B$9-'Setup & Instructions'!$B$10,"NEAR TARGET","BELOW TARGET"))) -> BELOW TARGET
A13: Customer 9 | B13: =COUNTIF('Job Log'!$C$5:$C$104,A13) -> 0 | C13: =SUMIF('Job Log'!$C$5:$C$104,A13,'Job Log'!$F$5:$F$104) -> 0 | D13: =SUMIF('Job Log'!$C$5:$C$104,A13,'Job Log'!$G$5:$G$104) -> 0 | E13: =SUMIF('Job Log'!$C$5:$C$104,A13,'Job Log'!$P$5:$P$104) -> 0 | F13: =C13-E13 -> 0 | G13: =IFERROR(F13/C13,0) -> 0 | H13: =IFERROR(C13/D13,0) -> 0 | I13: =SUMIF('Job Log'!$C$5:$C$104,A13,'Job Log'!$V$5:$V$104) -> 0 | J13: =IF(G13<0,"LOSING MONEY",IF(G13>='Setup & Instructions'!$B$9,"MEETS TARGET",IF(G13>='Setup & Instructions'!$B$9-'Setup & Instructions'!$B$10,"NEAR TARGET","BELOW TARGET"))) -> BELOW TARGET
A14: Customer 10 | B14: =COUNTIF('Job Log'!$C$5:$C$104,A14) -> 0 | C14: =SUMIF('Job Log'!$C$5:$C$104,A14,'Job Log'!$F$5:$F$104) -> 0 | D14: =SUMIF('Job Log'!$C$5:$C$104,A14,'Job Log'!$G$5:$G$104) -> 0 | E14: =SUMIF('Job Log'!$C$5:$C$104,A14,'Job Log'!$P$5:$P$104) -> 0 | F14: =C14-E14 -> 0 | G14: =IFERROR(F14/C14,0) -> 0 | H14: =IFERROR(C14/D14,0) -> 0 | I14: =SUMIF('Job Log'!$C$5:$C$104,A14,'Job Log'!$V$5:$V$104) -> 0 | J14: =IF(G14<0,"LOSING MONEY",IF(G14>='Setup & Instructions'!$B$9,"MEETS TARGET",IF(G14>='Setup & Instructions'!$B$9-'Setup & Instructions'!$B$10,"NEAR TARGET","BELOW TARGET"))) -> BELOW TARGET

Sheet Service Profitability
A1: Service Profitability Summary
A4: Service Type | B4: Jobs | C4: Revenue | D4: Labor Hrs | E4: Total Cost | F4: Profit | G4: Margin | H4: Rev/Labor Hr | I4: Reclean Cost | J4: Status
A5: Standard Cleaning | B5: =COUNTIF('Job Log'!$D$5:$D$104,A5) -> 1 | C5: =SUMIF('Job Log'!$D$5:$D$104,A5,'Job Log'!$F$5:$F$104) -> 220 | D5: =SUMIF('Job Log'!$D$5:$D$104,A5,'Job Log'!$G$5:$G$104) -> 4 | E5: =SUMIF('Job Log'!$D$5:$D$104,A5,'Job Log'!$P$5:$P$104) -> 148.25 | F5: =C5-E5 -> 71.75 | G5: =IFERROR(F5/C5,0) -> 0.32613636 | H5: =IFERROR(C5/D5,0) -> 55 | I5: =SUMIF('Job Log'!$D$5:$D$104,A5,'Job Log'!$V$5:$V$104) -> 0 | J5: =IF(G5<0,"LOSING MONEY",IF(G5>='Setup & Instructions'!$B$9,"MEETS TARGET",IF(G5>='Setup & Instructions'!$B$9-'Setup & Instructions'!$B$10,"NEAR TARGET","BELOW TARGET"))) -> MEETS TARGET
A6: Deep Cleaning | B6: =COUNTIF('Job Log'!$D$5:$D$104,A6) -> 0 | C6: =SUMIF('Job Log'!$D$5:$D$104,A6,'Job Log'!$F$5:$F$104) -> 0 | D6: =SUMIF('Job Log'!$D$5:$D$104,A6,'Job Log'!$G$5:$G$104) -> 0 | E6: =SUMIF('Job Log'!$D$5:$D$104,A6,'Job Log'!$P$5:$P$104) -> 0 | F6: =C6-E6 -> 0 | G6: =IFERROR(F6/C6,0) -> 0 | H6: =IFERROR(C6/D6,0) -> 0 | I6: =SUMIF('Job Log'!$D$5:$D$104,A6,'Job Log'!$V$5:$V$104) -> 0 | J6: =IF(G6<0,"LOSING MONEY",IF(G6>='Setup & Instructions'!$B$9,"MEETS TARGET",IF(G6>='Setup & Instructions'!$B$9-'Setup & Instructions'!$B$10,"NEAR TARGET","BELOW TARGET"))) -> BELOW TARGET
A7: Move-In / Move-Out | B7: =COUNTIF('Job Log'!$D$5:$D$104,A7) -> 0 | C7: =SUMIF('Job Log'!$D$5:$D$104,A7,'Job Log'!$F$5:$F$104) -> 0 | D7: =SUMIF('Job Log'!$D$5:$D$104,A7,'Job Log'!$G$5:$G$104) -> 0 | E7: =SUMIF('Job Log'!$D$5:$D$104,A7,'Job Log'!$P$5:$P$104) -> 0 | F7: =C7-E7 -> 0 | G7: =IFERROR(F7/C7,0) -> 0 | H7: =IFERROR(C7/D7,0) -> 0 | I7: =SUMIF('Job Log'!$D$5:$D$104,A7,'Job Log'!$V$5:$V$104) -> 0 | J7: =IF(G7<0,"LOSING MONEY",IF(G7>='Setup & Instructions'!$B$9,"MEETS TARGET",IF(G7>='Setup & Instructions'!$B$9-'Setup & Instructions'!$B$10,"NEAR TARGET","BELOW TARGET"))) -> BELOW TARGET
A8: Vacation Rental Turnover | B8: =COUNTIF('Job Log'!$D$5:$D$104,A8) -> 1 | C8: =SUMIF('Job Log'!$D$5:$D$104,A8,'Job Log'!$F$5:$F$104) -> 310 | D8: =SUMIF('Job Log'!$D$5:$D$104,A8,'Job Log'!$G$5:$G$104) -> 5.5 | E8: =SUMIF('Job Log'!$D$5:$D$104,A8,'Job Log'!$P$5:$P$104) -> 229.96875 | F8: =C8-E8 -> 80.03125 | G8: =IFERROR(F8/C8,0) -> 0.25816532 | H8: =IFERROR(C8/D8,0) -> 56.363636 | I8: =SUMIF('Job Log'!$D$5:$D$104,A8,'Job Log'!$V$5:$V$104) -> 25 | J8: =IF(G8<0,"LOSING MONEY",IF(G8>='Setup & Instructions'!$B$9,"MEETS TARGET",IF(G8>='Setup & Instructions'!$B$9-'Setup & Instructions'!$B$10,"NEAR TARGET","BELOW TARGET"))) -> NEAR TARGET
A9: Commercial Cleaning | B9: =COUNTIF('Job Log'!$D$5:$D$104,A9) -> 1 | C9: =SUMIF('Job Log'!$D$5:$D$104,A9,'Job Log'!$F$5:$F$104) -> 480 | D9: =SUMIF('Job Log'!$D$5:$D$104,A9,'Job Log'!$G$5:$G$104) -> 8 | E9: =SUMIF('Job Log'!$D$5:$D$104,A9,'Job Log'!$P$5:$P$104) -> 302.5 | F9: =C9-E9 -> 177.5 | G9: =IFERROR(F9/C9,0) -> 0.36979167 | H9: =IFERROR(C9/D9,0) -> 60 | I9: =SUMIF('Job Log'!$D$5:$D$104,A9,'Job Log'!$V$5:$V$104) -> 0 | J9: =IF(G9<0,"LOSING MONEY",IF(G9>='Setup & Instructions'!$B$9,"MEETS TARGET",IF(G9>='Setup & Instructions'!$B$9-'Setup & Instructions'!$B$10,"NEAR TARGET","BELOW TARGET"))) -> MEETS TARGET
A10: Janitorial | B10: =COUNTIF('Job Log'!$D$5:$D$104,A10) -> 0 | C10: =SUMIF('Job Log'!$D$5:$D$104,A10,'Job Log'!$F$5:$F$104) -> 0 | D10: =SUMIF('Job Log'!$D$5:$D$104,A10,'Job Log'!$G$5:$G$104) -> 0 | E10: =SUMIF('Job Log'!$D$5:$D$104,A10,'Job Log'!$P$5:$P$104) -> 0 | F10: =C10-E10 -> 0 | G10: =IFERROR(F10/C10,0) -> 0 | H10: =IFERROR(C10/D10,0) -> 0 | I10: =SUMIF('Job Log'!$D$5:$D$104,A10,'Job Log'!$V$5:$V$104) -> 0 | J10: =IF(G10<0,"LOSING MONEY",IF(G10>='Setup & Instructions'!$B$9,"MEETS TARGET",IF(G10>='Setup & Instructions'!$B$9-'Setup & Instructions'!$B$10,"NEAR TARGET","BELOW TARGET"))) -> BELOW TARGET
A11: Post-Construction | B11: =COUNTIF('Job Log'!$D$5:$D$104,A11) -> 0 | C11: =SUMIF('Job Log'!$D$5:$D$104,A11,'Job Log'!$F$5:$F$104) -> 0 | D11: =SUMIF('Job Log'!$D$5:$D$104,A11,'Job Log'!$G$5:$G$104) -> 0 | E11: =SUMIF('Job Log'!$D$5:$D$104,A11,'Job Log'!$P$5:$P$104) -> 0 | F11: =C11-E11 -> 0 | G11: =IFERROR(F11/C11,0) -> 0 | H11: =IFERROR(C11/D11,0) -> 0 | I11: =SUMIF('Job Log'!$D$5:$D$104,A11,'Job Log'!$V$5:$V$104) -> 0 | J11: =IF(G11<0,"LOSING MONEY",IF(G11>='Setup & Instructions'!$B$9,"MEETS TARGET",IF(G11>='Setup & Instructions'!$B$9-'Setup & Instructions'!$B$10,"NEAR TARGET","BELOW TARGET"))) -> BELOW TARGET
A12: Other | B12: =COUNTIF('Job Log'!$D$5:$D$104,A12) -> 0 | C12: =SUMIF('Job Log'!$D$5:$D$104,A12,'Job Log'!$F$5:$F$104) -> 0 | D12: =SUMIF('Job Log'!$D$5:$D$104,A12,'Job Log'!$G$5:$G$104) -> 0 | E12: =SUMIF('Job Log'!$D$5:$D$104,A12,'Job Log'!$P$5:$P$104) -> 0 | F12: =C12-E12 -> 0 | G12: =IFERROR(F12/C12,0) -> 0 | H12: =IFERROR(C12/D12,0) -> 0 | I12: =SUMIF('Job Log'!$D$5:$D$104,A12,'Job Log'!$V$5:$V$104) -> 0 | J12: =IF(G12<0,"LOSING MONEY",IF(G12>='Setup & Instructions'!$B$9,"MEETS TARGET",IF(G12>='Setup & Instructions'!$B$9-'Setup & Instructions'!$B$10,"NEAR TARGET","BELOW TARGET"))) -> BELOW TARGET

Sheet Setup & Instructions
A1: TidyOps Cleaning Job Costing Template — Setup & Instructions
A3: BUSINESS COST ASSUMPTIONS
A4: Payroll burden % | B4: 0.18
A5: Mileage cost per mile | B5: 0.67
A6: Payment processing % | B6: 0.03
A7: Monthly overhead | B7: 2500
A8: Monthly billable labor hours | B8: 320
A9: Target profit margin | B9: 0.3
A10: Near-target tolerance | B10: 0.05
A12: SERVICE TYPES
A13: Standard Cleaning
A14: Deep Cleaning
A15: Move-In / Move-Out
A16: Vacation Rental Turnover
A17: Commercial Cleaning
A18: Janitorial
A19: Post-Construction
A20: Other
A22: INSTRUCTIONS
A23: Use the Job Costing tab for one completed job. Enter actual labor, supplies, travel, direct costs, and estimated-vs-actual values.
A24: Use Job Log to maintain a history of completed jobs. Customer and Service Profitability tabs roll up the log automatically.
... A27: Update assumptions in this tab to match your business. The workbook deliberately does not hard-code payroll or tax rules for any jurisdiction.
