Workbook

Sheet Recurring Customers
A1: Recurring Customer Register
A2: Enter one row per recurring account. Blue text = user input; formulas calculate ARR, MRR, concentration, and risk.
A4: Customer ID | B4: Customer | C4: Business Line | D4: Service | E4: Frequency | F4: Custom Visits/Yr | G4: Price/Visit | H4: Start Date | I4: Status | J4: Health | K4: Contract End | L4: Renewal Status | M4: Old Price | N4: Price Increase Effective | O4: Old Frequency | P4: Pause Date | Q4: Expected Return | R4: Cancellation Date | S4: Cancellation Reason | T4: Visits/Yr | U4: ARR | V4: Avg MRR
A5: CUST-001 | B5: Smith Residence | C5: Residential | D5: Standard Cleaning | E5: Every 2 Weeks | G5: 180 | H5: 45748 | I5: Active | J5: Healthy | L5: Not Due | M5: 165 | N5: 46174 | O5: Every 2 Weeks | T5: =IF(E5="Weekly",'Setup & Assumptions'!$B$6,IF(E5="Every 2 Weeks",'Setup & Assumptions'!$B$7,IF(E5="Every 4 Weeks",'Setup & Assumptions'!$B$8,IF(E5="Monthly",'Setup & Assumptions'!$B$9,IF(E5="Quarterly",'Setup & Assumptions'!$B$10,IF(E5="Custom",F5,0)))))) -> 26 | U5: =IF(OR(I5="Canceled",G5=""),0,G5*T5) -> 4680 | V5: =U5/12 -> 390
A6: CUST-002 | B6: Oak Street Offices | C6: Commercial | D6: Janitorial | E6: Weekly | G6: 525 | H6: 45519 | I6: Active | J6: Review | K6: 46387 | L6: Review Soon | M6: 500 | N6: 46204 | O6: Weekly | T6: =IF(E6="Weekly",'Setup & Assumptions'!$B$6,IF(E6="Every 2 Weeks",'Setup & Assumptions'!$B$7,IF(E6="Every 4 Weeks",'Setup & Assumptions'!$B$8,IF(E6="Monthly",'Setup & Assumptions'!$B$9,IF(E6="Quarterly",'Setup & Assumptions'!$B$10,IF(E6="Custom",F6,0)))))) -> 52 | U6: =IF(OR(I6="Canceled",G6=""),0,G6*T6) -> 27300 | V6: =U6/12 -> 2275
A7: CUST-003 | B7: Lakeview Airbnb | C7: Vacation Rental | D7: Turnover | E7: Custom | F7: 38 | G7: 145 | H7: 46063 | I7: Seasonal | J7: Healthy | L7: Not Due | T7: =IF(E7="Weekly",'Setup & Assumptions'!$B$6,IF(E7="Every 2 Weeks",'Setup & Assumptions'!$B$7,IF(E7="Every 4 Weeks",'Setup & Assumptions'!$B$8,IF(E7="Monthly",'Setup & Assumptions'!$B$9,IF(E7="Quarterly",'Setup & Assumptions'!$B$10,IF(E7="Custom",F7,0)))))) -> 38 | U7: =IF(OR(I7="Canceled",G7=""),0,G7*T7) -> 5510 | V7: =U7/12 -> 459.16667
A8: CUST-004 | B8: Garcia Residence | C8: Residential | D8: Standard Cleaning | E8: Monthly | G8: 220 | H8: 45901 | I8: At Risk | J8: At Risk | L8: Not Due | M8: 210 | N8: 46235 | O8: Monthly | T8: =IF(E8="Weekly",'Setup & Assumptions'!$B$6,IF(E8="Every 2 Weeks",'Setup & Assumptions'!$B$7,IF(E8="Every 4 Weeks",'Setup & Assumptions'!$B$8,IF(E8="Monthly",'Setup & Assumptions'!$B$9,IF(E8="Quarterly",'Setup & Assumptions'!$B$10,IF(E8="Custom",F8,0)))))) -> 12 | U8: =IF(OR(I8="Canceled",G8=""),0,G8*T8) -> 2640 | V8: =U8/12 -> 220
T9: =IF(E9="Weekly",'Setup & Assumptions'!$B$6,IF(E9="Every 2 Weeks",'Setup & Assumptions'!$B$7,IF(E9="Every 4 Weeks",'Setup & Assumptions'!$B$8,IF(E9="Monthly",'Setup & Assumptions'!$B$9,IF(E9="Quarterly",'Setup & Assumptions'!$B$10,IF(E9="Custom",F9,0)))))) -> 0 | U9: =IF(OR(I9="Canceled",G9=""),0,G9*T9) -> 0 | V9: =U9/12 -> 0
T10: =IF(E10="Weekly",'Setup & Assumptions'!$B$6,IF(E10="Every 2 Weeks",'Setup & Assumptions'!$B$7,IF(E10="Every 4 Weeks",'Setup & Assumptions'!$B$8,IF(E10="Monthly",'Setup & Assumptions'!$B$9,IF(E10="Quarterly",'Setup & Assumptions'!$B$10,IF(E10="Custom",F10,0)))))) -> 0 | U10: =IF(OR(I10="Canceled",G10=""),0,G10*T10) -> 0 | V10: =U10/12 -> 0
T11: =IF(E11="Weekly",'Setup & Assumptions'!$B$6,IF(E11="Every 2 Weeks",'Setup & Assumptions'!$B$7,IF(E11="Every 4 Weeks",'Setup & Assumptions'!$B$8,IF(E11="Monthly",'Setup & Assumptions'!$B$9,IF(E11="Quarterly",'Setup & Assumptions'!$B$10,IF(E11="Custom",F11,0)))))) -> 0 | U11: =IF(OR(I11="Canceled",G11=""),0,G11*T11) -> 0 | V11: =U11/12 -> 0
T12: =IF(E12="Weekly",'Setup & Assumptions'!$B$6,IF(E12="Every 2 Weeks",'Setup & Assumptions'!$B$7,IF(E12="Every 4 Weeks",'Setup & Assumptions'!$B$8,IF(E12="Monthly",'Setup & Assumptions'!$B$9,IF(E12="Quarterly",'Setup & Assumptions'!$B$10,IF(E12="Custom",F12,0)))))) -> 0 | U12: =IF(OR(I12="Canceled",G12=""),0,G12*T12) -> 0 | V12: =U12/12 -> 0
T13: =IF(E13="Weekly",'Setup & Assumptions'!$B$6,IF(E13="Every 2 Weeks",'Setup & Assumptions'!$B$7,IF(E13="Every 4 Weeks",'Setup & Assumptions'!$B$8,IF(E13="Monthly",'Setup & Assumptions'!$B$9,IF(E13="Quarterly",'Setup & Assumptions'!$B$10,IF(E13="Custom",F13,0)))))) -> 0 | U13: =IF(OR(I13="Canceled",G13=""),0,G13*T13) -> 0 | V13: =U13/12 -> 0
T14: =IF(E14="Weekly",'Setup & Assumptions'!$B$6,IF(E14="Every 2 Weeks",'Setup & Assumptions'!$B$7,IF(E14="Every 4 Weeks",'Setup & Assumptions'!$B$8,IF(E14="Monthly",'Setup & Assumptions'!$B$9,IF(E14="Quarterly",'Setup & Assumptions'!$B$10,IF(E14="Custom",F14,0)))))) -> 0 | U14: =IF(OR(I14="Canceled",G14=""),0,G14*T14) -> 0 | V14: =U14/12 -> 0
T15: =IF(E15="Weekly",'Setup & Assumptions'!$B$6,IF(E15="Every 2 Weeks",'Setup & Assumptions'!$B$7,IF(E15="Every 4 Weeks",'Setup & Assumptions'!$B$8,IF(E15="Monthly",'Setup & Assumptions'!$B$9,IF(E15="Quarterly",'Setup & Assumptions'!$B$10,IF(E15="Custom",F15,0)))))) -> 0 | U15: =IF(OR(I15="Canceled",G15=""),0,G15*T15) -> 0 | V15: =U15/12 -> 0
T16: =IF(E16="Weekly",'Setup & Assumptions'!$B$6,IF(E16="Every 2 Weeks",'Setup & Assumptions'!$B$7,IF(E16="Every 4 Weeks",'Setup & Assumptions'!$B$8,IF(E16="Monthly",'Setup & Assumptions'!$B$9,IF(E16="Quarterly",'Setup & Assumptions'!$B$10,IF(E16="Custom",F16,0)))))) -> 0 | U16: =IF(OR(I16="Canceled",G16=""),0,G16*T16) -> 0 | V16: =U16/12 -> 0
T17: =IF(E17="Weekly",'Setup & Assumptions'!$B$6,IF(E17="Every 2 Weeks",'Setup & Assumptions'!$B$7,IF(E17="Every 4 Weeks",'Setup & Assumptions'!$B$8,IF(E17="Monthly",'Setup & Assumptions'!$B$9,IF(E17="Quarterly",'Setup & Assumptions'!$B$10,IF(E17="Custom",F17,0)))))) -> 0 | U17: =IF(OR(I17="Canceled",G17=""),0,G17*T17) -> 0 | V17: =U17/12 -> 0
T18: =IF(E18="Weekly",'Setup & Assumptions'!$B$6,IF(E18="Every 2 Weeks",'Setup & Assumptions'!$B$7,IF(E18="Every 4 Weeks",'Setup & Assumptions'!$B$8,IF(E18="Monthly",'Setup & Assumptions'!$B$9,IF(E18="Quarterly",'Setup & Assumptions'!$B$10,IF(E18="Custom",F18,0)))))) -> 0 | U18: =IF(OR(I18="Canceled",G18=""),0,G18*T18) -> 0 | V18: =U18/12 -> 0
T19: =IF(E19="Weekly",'Setup & Assumptions'!$B$6,IF(E19="Every 2 Weeks",'Setup & Assumptions'!$B$7,IF(E19="Every 4 Weeks",'Setup & Assumptions'!$B$8,IF(E19="Monthly",'Setup & Assumptions'!$B$9,IF(E19="Quarterly",'Setup & Assumptions'!$B$10,IF(E19="Custom",F19,0)))))) -> 0 | U19: =IF(OR(I19="Canceled",G19=""),0,G19*T19) -> 0 | V19: =U19/12 -> 0
T20: =IF(E20="Weekly",'Setup & Assumptions'!$B$6,IF(E20="Every 2 Weeks",'Setup & Assumptions'!$B$7,IF(E20="Every 4 Weeks",'Setup & Assumptions'!$B$8,IF(E20="Monthly",'Setup & Assumptions'!$B$9,IF(E20="Quarterly",'Setup & Assumptions'!$B$10,IF(E20="Custom",F20,0)))))) -> 0 | U20: =IF(OR(I20="Canceled",G20=""),0,G20*T20) -> 0 | V20: =U20/12 -> 0
... T504: =IF(E504="Weekly",'Setup & Assumptions'!$B$6,IF(E504="Every 2 Weeks",'Setup & Assumptions'!$B$7,IF(E504="Every 4 Weeks",'Setup & Assumptions'!$B$8,IF(E504="Monthly",'Setup & Assumptions'!$B$9,IF(E504="Quarterly",'Setup & Assumptions'!$B$10,IF(E504="Custom",F504,0)))))) -> 0 | U504: =IF(OR(I504="Canceled",G504=""),0,G504*T504) -> 0 | V504: =U504/12 -> 0

Sheet Revenue Dashboard
A1: Recurring Revenue Dashboard
A2: Predictable revenue, churn, concentration, renewals, and revenue at risk.
A4: Active Recurring Customers | C4: Average Monthly Recurring Revenue | E4: Annual Recurring Revenue
A5: =COUNTIF('Recurring Customers'!I5:I504,"Active") -> 2 | C5: =SUM('Recurring Customers'!V5:V504) -> 3344.1667 | E5: =SUM('Recurring Customers'!U5:U504) -> 40130
A8: At-Risk ARR | C8: Largest Customer % | E8: Renewals Due
A9: =SUMIFS('Recurring Customers'!U5:U504,'Recurring Customers'!J5:J504,"At Risk") -> 2640 | C9: =IF(E5=0,0,MAX('Recurring Customers'!U5:U504)/E5) -> 0.68028906 | E9: =COUNTIF('Recurring Customers'!L5:L504,"Renewal Due") -> 0
A12: ARR by Business Line | E12: ARR by Frequency
A13: Residential | B13: =SUMIFS('Recurring Customers'!$U$5:$U$504,'Recurring Customers'!$C$5:$C$504,A13) -> 7320 | E13: Weekly | F13: =SUMIFS('Recurring Customers'!$U$5:$U$504,'Recurring Customers'!$E$5:$E$504,E13) -> 27300
A14: Commercial | B14: =SUMIFS('Recurring Customers'!$U$5:$U$504,'Recurring Customers'!$C$5:$C$504,A14) -> 27300 | E14: Every 2 Weeks | F14: =SUMIFS('Recurring Customers'!$U$5:$U$504,'Recurring Customers'!$E$5:$E$504,E14) -> 4680
A15: Vacation Rental | B15: =SUMIFS('Recurring Customers'!$U$5:$U$504,'Recurring Customers'!$C$5:$C$504,A15) -> 5510 | E15: Every 4 Weeks | F15: =SUMIFS('Recurring Customers'!$U$5:$U$504,'Recurring Customers'!$E$5:$E$504,E15) -> 0
A16: Other | B16: =SUMIFS('Recurring Customers'!$U$5:$U$504,'Recurring Customers'!$C$5:$C$504,A16) -> 0 | E16: Monthly | F16: =SUMIFS('Recurring Customers'!$U$5:$U$504,'Recurring Customers'!$E$5:$E$504,E16) -> 2640
E17: Quarterly | F17: =SUMIFS('Recurring Customers'!$U$5:$U$504,'Recurring Customers'!$E$5:$E$504,E17) -> 0
E18: Custom | F18: =SUMIFS('Recurring Customers'!$U$5:$U$504,'Recurring Customers'!$E$5:$E$504,E18) -> 5510
A21: At-Risk Customers to Contact
A23: Accounts Due for Price Review
A25: Contracts Due for Renewal
A27: Paused Customers to Re-Engage

Sheet Monthly Movement
A1: Recurring Revenue Movement
A2: Track starting ARR, new ARR, pricing changes, frequency changes, churn, and ending ARR by month.
A4: Month | B4: Starting ARR | C4: New ARR | D4: Price Increase Impact | E4: Frequency Change Impact | F4: ARR Lost | G4: Ending ARR | H4: Net ARR Change | I4: ARR Growth % | J4: Customers Start | K4: Customers Lost | L4: Customer Churn % | M4: Revenue Churn % | N4: NRR %
A5: Jan | B5: 0 | C5: 0 | D5: 0 | E5: 0 | F5: 0 | G5: =B5+C5+D5+E5-F5 -> 0 | H5: =G5-B5 -> 0 | I5: =IF(B5=0,0,H5/B5) -> 0 | J5: 0 | K5: 0 | L5: =IF(J5=0,0,K5/J5) -> 0 | M5: =IF(B5=0,0,F5/B5) -> 0 | N5: =IF(B5=0,0,(B5-F5+D5+MAX(E5,0))/B5) -> 0
A6: Feb | B6: =G5 -> 0 | C6: 0 | D6: 0 | E6: 0 | F6: 0 | G6: =B6+C6+D6+E6-F6 -> 0 | H6: =G6-B6 -> 0 | I6: =IF(B6=0,0,H6/B6) -> 0 | J6: =J5-K5+IF(C6>0,1,0) -> 0 | K6: 0 | L6: =IF(J6=0,0,K6/J6) -> 0 | M6: =IF(B6=0,0,F6/B6) -> 0 | N6: =IF(B6=0,0,(B6-F6+D6+MAX(E6,0))/B6) -> 0
A7: Mar | B7: =G6 -> 0 | C7: 0 | D7: 0 | E7: 0 | F7: 0 | G7: =B7+C7+D7+E7-F7 -> 0 | H7: =G7-B7 -> 0 | I7: =IF(B7=0,0,H7/B7) -> 0 | J7: =J6-K6+IF(C7>0,1,0) -> 0 | K7: 0 | L7: =IF(J7=0,0,K7/J7) -> 0 | M7: =IF(B7=0,0,F7/B7) -> 0 | N7: =IF(B7=0,0,(B7-F7+D7+MAX(E7,0))/B7) -> 0
A8: Apr | B8: =G7 -> 0 | C8: 0 | D8: 0 | E8: 0 | F8: 0 | G8: =B8+C8+D8+E8-F8 -> 0 | H8: =G8-B8 -> 0 | I8: =IF(B8=0,0,H8/B8) -> 0 | J8: =J7-K7+IF(C8>0,1,0) -> 0 | K8: 0 | L8: =IF(J8=0,0,K8/J8) -> 0 | M8: =IF(B8=0,0,F8/B8) -> 0 | N8: =IF(B8=0,0,(B8-F8+D8+MAX(E8,0))/B8) -> 0
A9: May | B9: =G8 -> 0 | C9: 0 | D9: 0 | E9: 0 | F9: 0 | G9: =B9+C9+D9+E9-F9 -> 0 | H9: =G9-B9 -> 0 | I9: =IF(B9=0,0,H9/B9) -> 0 | J9: =J8-K8+IF(C9>0,1,0) -> 0 | K9: 0 | L9: =IF(J9=0,0,K9/J9) -> 0 | M9: =IF(B9=0,0,F9/B9) -> 0 | N9: =IF(B9=0,0,(B9-F9+D9+MAX(E9,0))/B9) -> 0
A10: Jun | B10: =G9 -> 0 | C10: 0 | D10: 0 | E10: 0 | F10: 0 | G10: =B10+C10+D10+E10-F10 -> 0 | H10: =G10-B10 -> 0 | I10: =IF(B10=0,0,H10/B10) -> 0 | J10: =J9-K9+IF(C10>0,1,0) -> 0 | K10: 0 | L10: =IF(J10=0,0,K10/J10) -> 0 | M10: =IF(B10=0,0,F10/B10) -> 0 | N10: =IF(B10=0,0,(B10-F10+D10+MAX(E10,0))/B10) -> 0
A11: Jul | B11: =G10 -> 0 | C11: 0 | D11: 0 | E11: 0 | F11: 0 | G11: =B11+C11+D11+E11-F11 -> 0 | H11: =G11-B11 -> 0 | I11: =IF(B11=0,0,H11/B11) -> 0 | J11: =J10-K10+IF(C11>0,1,0) -> 0 | K11: 0 | L11: =IF(J11=0,0,K11/J11) -> 0 | M11: =IF(B11=0,0,F11/B11) -> 0 | N11: =IF(B11=0,0,(B11-F11+D11+MAX(E11,0))/B11) -> 0
A12: Aug | B12: =G11 -> 0 | C12: 0 | D12: 0 | E12: 0 | F12: 0 | G12: =B12+C12+D12+E12-F12 -> 0 | H12: =G12-B12 -> 0 | I12: =IF(B12=0,0,H12/B12) -> 0 | J12: =J11-K11+IF(C12>0,1,0) -> 0 | K12: 0 | L12: =IF(J12=0,0,K12/J12) -> 0 | M12: =IF(B12=0,0,F12/B12) -> 0 | N12: =IF(B12=0,0,(B12-F12+D12+MAX(E12,0))/B12) -> 0
A13: Sep | B13: =G12 -> 0 | C13: 0 | D13: 0 | E13: 0 | F13: 0 | G13: =B13+C13+D13+E13-F13 -> 0 | H13: =G13-B13 -> 0 | I13: =IF(B13=0,0,H13/B13) -> 0 | J13: =J12-K12+IF(C13>0,1,0) -> 0 | K13: 0 | L13: =IF(J13=0,0,K13/J13) -> 0 | M13: =IF(B13=0,0,F13/B13) -> 0 | N13: =IF(B13=0,0,(B13-F13+D13+MAX(E13,0))/B13) -> 0
A14: Oct | B14: =G13 -> 0 | C14: 0 | D14: 0 | E14: 0 | F14: 0 | G14: =B14+C14+D14+E14-F14 -> 0 | H14: =G14-B14 -> 0 | I14: =IF(B14=0,0,H14/B14) -> 0 | J14: =J13-K13+IF(C14>0,1,0) -> 0 | K14: 0 | L14: =IF(J14=0,0,K14/J14) -> 0 | M14: =IF(B14=0,0,F14/B14) -> 0 | N14: =IF(B14=0,0,(B14-F14+D14+MAX(E14,0))/B14) -> 0
A15: Nov | B15: =G14 -> 0 | C15: 0 | D15: 0 | E15: 0 | F15: 0 | G15: =B15+C15+D15+E15-F15 -> 0 | H15: =G15-B15 -> 0 | I15: =IF(B15=0,0,H15/B15) -> 0 | J15: =J14-K14+IF(C15>0,1,0) -> 0 | K15: 0 | L15: =IF(J15=0,0,K15/J15) -> 0 | M15: =IF(B15=0,0,F15/B15) -> 0 | N15: =IF(B15=0,0,(B15-F15+D15+MAX(E15,0))/B15) -> 0
A16: Dec | B16: =G15 -> 0 | C16: 0 | D16: 0 | E16: 0 | F16: 0 | G16: =B16+C16+D16+E16-F16 -> 0 | H16: =G16-B16 -> 0 | I16: =IF(B16=0,0,H16/B16) -> 0 | J16: =J15-K15+IF(C16>0,1,0) -> 0 | K16: 0 | L16: =IF(J16=0,0,K16/J16) -> 0 | M16: =IF(B16=0,0,F16/B16) -> 0 | N16: =IF(B16=0,0,(B16-F16+D16+MAX(E16,0))/B16) -> 0

Sheet Renewals & Risk
A1: Renewals & Risk Review
A3: KPI | B3: Value | D3: Contract / Renewal Watch
A4: Active Recurring Customers | B4: =COUNTIF('Recurring Customers'!I5:I504,"Active") -> 2 | D4: Use filters on Recurring Customers to review Contract End and Renewal Status.
A5: At-Risk Customers | B5: =COUNTIF('Recurring Customers'!J5:J504,"At Risk") -> 1
A6: Revenue at Risk (ARR) | B6: =SUMIFS('Recurring Customers'!U5:U504,'Recurring Customers'!J5:J504,"At Risk") -> 2640
A7: Total ARR | B7: =SUM('Recurring Customers'!U5:U504) -> 40130
A8: Largest Customer ARR | B8: =MAX('Recurring Customers'!U5:U504) -> 27300
A9: Largest Customer % | B9: =IF(B7=0,0,B8/B7) -> 0.68028906
A10: Renewals Due | B10: =COUNTIF('Recurring Customers'!L5:L504,"Renewal Due") -> 0
A11: Review Soon | B11: =COUNTIF('Recurring Customers'!L5:L504,"Review Soon") -> 1
A12: Paused Customers | B12: =COUNTIF('Recurring Customers'!I5:I504,"Paused") -> 0
A13: Canceling Customers | B13: =COUNTIF('Recurring Customers'!I5:I504,"Canceling") -> 0

Sheet 12-Month Trend
A1: 12-Month Recurring Revenue Trend
A4: Month | B4: Ending ARR | C4: Avg Monthly RR | D4: Customer Count | E4: New ARR | F4: ARR Lost | G4: Churn %
A5: Jan | B5: ='Monthly Movement'!G5 -> 0 | C5: =B5/12 -> 0 | D5: ='Monthly Movement'!J5-'Monthly Movement'!K5 -> 0 | E5: ='Monthly Movement'!C5 -> 0 | F5: ='Monthly Movement'!F5 -> 0 | G5: ='Monthly Movement'!L5 -> 0
A6: Feb | B6: ='Monthly Movement'!G6 -> 0 | C6: =B6/12 -> 0 | D6: ='Monthly Movement'!J6-'Monthly Movement'!K6 -> 0 | E6: ='Monthly Movement'!C6 -> 0 | F6: ='Monthly Movement'!F6 -> 0 | G6: ='Monthly Movement'!L6 -> 0
A7: Mar | B7: ='Monthly Movement'!G7 -> 0 | C7: =B7/12 -> 0 | D7: ='Monthly Movement'!J7-'Monthly Movement'!K7 -> 0 | E7: ='Monthly Movement'!C7 -> 0 | F7: ='Monthly Movement'!F7 -> 0 | G7: ='Monthly Movement'!L7 -> 0
A8: Apr | B8: ='Monthly Movement'!G8 -> 0 | C8: =B8/12 -> 0 | D8: ='Monthly Movement'!J8-'Monthly Movement'!K8 -> 0 | E8: ='Monthly Movement'!C8 -> 0 | F8: ='Monthly Movement'!F8 -> 0 | G8: ='Monthly Movement'!L8 -> 0
A9: May | B9: ='Monthly Movement'!G9 -> 0 | C9: =B9/12 -> 0 | D9: ='Monthly Movement'!J9-'Monthly Movement'!K9 -> 0 | E9: ='Monthly Movement'!C9 -> 0 | F9: ='Monthly Movement'!F9 -> 0 | G9: ='Monthly Movement'!L9 -> 0
A10: Jun | B10: ='Monthly Movement'!G10 -> 0 | C10: =B10/12 -> 0 | D10: ='Monthly Movement'!J10-'Monthly Movement'!K10 -> 0 | E10: ='Monthly Movement'!C10 -> 0 | F10: ='Monthly Movement'!F10 -> 0 | G10: ='Monthly Movement'!L10 -> 0
A11: Jul | B11: ='Monthly Movement'!G11 -> 0 | C11: =B11/12 -> 0 | D11: ='Monthly Movement'!J11-'Monthly Movement'!K11 -> 0 | E11: ='Monthly Movement'!C11 -> 0 | F11: ='Monthly Movement'!F11 -> 0 | G11: ='Monthly Movement'!L11 -> 0
A12: Aug | B12: ='Monthly Movement'!G12 -> 0 | C12: =B12/12 -> 0 | D12: ='Monthly Movement'!J12-'Monthly Movement'!K12 -> 0 | E12: ='Monthly Movement'!C12 -> 0 | F12: ='Monthly Movement'!F12 -> 0 | G12: ='Monthly Movement'!L12 -> 0
A13: Sep | B13: ='Monthly Movement'!G13 -> 0 | C13: =B13/12 -> 0 | D13: ='Monthly Movement'!J13-'Monthly Movement'!K13 -> 0 | E13: ='Monthly Movement'!C13 -> 0 | F13: ='Monthly Movement'!F13 -> 0 | G13: ='Monthly Movement'!L13 -> 0
A14: Oct | B14: ='Monthly Movement'!G14 -> 0 | C14: =B14/12 -> 0 | D14: ='Monthly Movement'!J14-'Monthly Movement'!K14 -> 0 | E14: ='Monthly Movement'!C14 -> 0 | F14: ='Monthly Movement'!F14 -> 0 | G14: ='Monthly Movement'!L14 -> 0
A15: Nov | B15: ='Monthly Movement'!G15 -> 0 | C15: =B15/12 -> 0 | D15: ='Monthly Movement'!J15-'Monthly Movement'!K15 -> 0 | E15: ='Monthly Movement'!C15 -> 0 | F15: ='Monthly Movement'!F15 -> 0 | G15: ='Monthly Movement'!L15 -> 0
A16: Dec | B16: ='Monthly Movement'!G16 -> 0 | C16: =B16/12 -> 0 | D16: ='Monthly Movement'!J16-'Monthly Movement'!K16 -> 0 | E16: ='Monthly Movement'!C16 -> 0 | F16: ='Monthly Movement'!F16 -> 0 | G16: ='Monthly Movement'!L16 -> 0

Sheet Setup & Assumptions
A1: TidyOps Cleaning Recurring Revenue Tracker
A2: Template ID: TPL-BIZ-008 | Version 1.0 | Updated September 2026
A4: CONTROL / ASSUMPTION | B4: VALUE | C4: NOTES | E4: LIST | F4: LIST | G4: LIST | H4: LIST | I4: LIST | J4: LIST
A5: Reporting Year | B5: 2026 | C5: Calendar year used for monthly summaries | E5: Weekly | F5: Residential | G5: Active | H5: Healthy | I5: Price | J5: Not Due
A6: Weekly Visits / Year | B6: 52 | C6: Editable planning assumption | E6: Every 2 Weeks | F6: Commercial | G6: Paused | H6: Review | I6: Quality | J6: Review Soon
A7: Every 2 Weeks Visits / Year | B7: 26 | C7: Editable planning assumption | E7: Every 4 Weeks | F7: Vacation Rental | G7: Seasonal | H7: At Risk | I7: Moving | J7: Renewal Due
A8: Every 4 Weeks Visits / Year | B8: 13 | C8: Editable planning assumption | E8: Monthly | F8: Other | G8: At Risk | I8: Schedule | J8: Negotiating
A9: Monthly Visits / Year | B9: 12 | C9: Editable planning assumption | E9: Quarterly | G9: Canceling | I9: Competitor | J9: Renewed
A10: Quarterly Visits / Year | B10: 4 | C10: Editable planning assumption | E10: Custom | G10: Canceled | I10: No Longer Needed | J10: Lost
A11: At-Risk Revenue Threshold | B11: 0 | C11: Used for management review only | I11: Financial
I12: Company Termination
I13: Other
A14: Metric Notes
A15: ARR | B15: Price per visit × estimated visits per year. Management metric, not accounting revenue recognition.
A16: Avg MRR | B16: ARR ÷ 12. Actual monthly cleaning revenue can vary by calendar month.
A17: Customer Churn | B17: Customers lost ÷ customers at start of period.
A18: Revenue Churn | B18: ARR lost ÷ starting ARR.
A19: NRR | B19: Starting ARR less churn plus expansion, divided by starting ARR.
